BEGIN:VCALENDAR
VERSION:2.0
PRODID:-//Black Lake Fish &amp; Game Association - ECPv6.15.20//NONSGML v1.0//EN
CALSCALE:GREGORIAN
METHOD:PUBLISH
X-ORIGINAL-URL:https://www.blfga.org
X-WR-CALDESC:Events for Black Lake Fish &amp; Game Association
REFRESH-INTERVAL;VALUE=DURATION:PT1H
X-Robots-Tag:noindex
X-PUBLISHED-TTL:PT1H
BEGIN:VTIMEZONE
TZID:America/New_York
BEGIN:DAYLIGHT
TZOFFSETFROM:-0500
TZOFFSETTO:-0400
TZNAME:EDT
DTSTART:20250309T070000
END:DAYLIGHT
BEGIN:STANDARD
TZOFFSETFROM:-0400
TZOFFSETTO:-0500
TZNAME:EST
DTSTART:20251102T060000
END:STANDARD
BEGIN:DAYLIGHT
TZOFFSETFROM:-0500
TZOFFSETTO:-0400
TZNAME:EDT
DTSTART:20260308T070000
END:DAYLIGHT
BEGIN:STANDARD
TZOFFSETFROM:-0400
TZOFFSETTO:-0500
TZNAME:EST
DTSTART:20261101T060000
END:STANDARD
BEGIN:DAYLIGHT
TZOFFSETFROM:-0500
TZOFFSETTO:-0400
TZNAME:EDT
DTSTART:20270314T070000
END:DAYLIGHT
BEGIN:STANDARD
TZOFFSETFROM:-0400
TZOFFSETTO:-0500
TZNAME:EST
DTSTART:20271107T060000
END:STANDARD
END:VTIMEZONE
BEGIN:VEVENT
DTSTART;TZID=America/New_York:20260302T180000
DTEND;TZID=America/New_York:20260302T200000
DTSTAMP:20260423T140039
CREATED:20260128T133558Z
LAST-MODIFIED:20260128T133601Z
UID:3302-1772474400-1772481600@www.blfga.org
SUMMARY:Youth Archery ~ Ages 6-9 6-7pm; Ages 10+ 7-8pm
DESCRIPTION:$5 Jr Membership to the BLFGA (good until 12/31/26) \n\n\n\n$5 weekly each Monday you attend
URL:https://www.blfga.org/event/youth-archery-ages-6-9-6-7pm-ages-10-7-8pm-9/
END:VEVENT
BEGIN:VEVENT
DTSTART;TZID=America/New_York:20260307T080000
DTEND;TZID=America/New_York:20260307T170000
DTSTAMP:20260423T140039
CREATED:20260213T172357Z
LAST-MODIFIED:20260213T172414Z
UID:3331-1772870400-1772902800@www.blfga.org
SUMMARY:Hunter Safety Course @ the BLFGA
DESCRIPTION:Hunter Education is required for all hunting licenses. This course covers firearms safety\, hunting techniques and responsible\, ethical hunting practices. \n\n\n\nNOTE All courses require the completion of homework prior to attending the course. If you do not complete the homework you cannot complete the course. Manuals with homework sheet will be available at the club in a clear tote on the front deck or on line. If you do the online class use the free choice option. \n\n\n\nIMPORTANT MINIMUM AGE FOR COURSE: 11 YEARS (Minimum age for a license is 12 years). \n\n\n\nContact Ralph Goodwin @ 518-578-8170 to sign up or sign up online https://www.register-ed.com/programs/new_york/165-new-york-hunter-education-course
URL:https://www.blfga.org/event/hunter-safety-course-the-blfga-2/
CATEGORIES:Featured
END:VEVENT
BEGIN:VEVENT
DTSTART;TZID=America/New_York:20260307T100000
DTEND;TZID=America/New_York:20260307T120000
DTSTAMP:20260423T140040
CREATED:20260213T172037Z
LAST-MODIFIED:20260213T172040Z
UID:3328-1772877600-1772884800@www.blfga.org
SUMMARY:Wood Duck Nesting Box Construction
DESCRIPTION:Bring the family and come help us build wood duck nest boxes! For a very large number of years now\, the BLFGA has constructed nest boxes. For the past few\, we have enlisted the help of kids and families in their construction\, and the St. Lawrence Waterfowlers and Jim Robinson (for many years) have assisted by donating the materials. Jim has the pieces all prepared for 65 boxes\, and if you come help put them together\, we’ll send each family home with one to be hung up where the wood ducks can use it. The remainder can be purchased from the BLFGA for $20 each! Bring a hammer along if you have one\, otherwise\, we’ve got a few already- and come join the fun! 
URL:https://www.blfga.org/event/wood-duck-nesting-box-construction/
END:VEVENT
BEGIN:VEVENT
DTSTART;TZID=America/New_York:20260309T180000
DTEND;TZID=America/New_York:20260309T200000
DTSTAMP:20260423T140040
CREATED:20260217T132956Z
LAST-MODIFIED:20260217T132959Z
UID:3354-1773079200-1773086400@www.blfga.org
SUMMARY:Youth Archery ~ Ages 6-9 6-7pm; Ages 10+ 7-8pm
DESCRIPTION:$5 Jr Membership to the BLFGA (good until 12/31/26) \n\n\n\n$5 weekly each Monday you attend
URL:https://www.blfga.org/event/youth-archery-ages-6-9-6-7pm-ages-10-7-8pm-10/
END:VEVENT
BEGIN:VEVENT
DTSTART;TZID=America/New_York:20260319T190000
DTEND;TZID=America/New_York:20260319T203000
DTSTAMP:20260423T140040
CREATED:20260217T132554Z
LAST-MODIFIED:20260217T132558Z
UID:3346-1773946800-1773952200@www.blfga.org
SUMMARY:Monthly Meeting
DESCRIPTION:Monthly Meeting – Clubhouse
URL:https://www.blfga.org/event/monthly-meeting-15/
END:VEVENT
END:VCALENDAR