BEGIN:VCALENDAR
VERSION:2.0
PRODID:-//Black Lake Fish &amp; Game Association - ECPv6.15.20//NONSGML v1.0//EN
CALSCALE:GREGORIAN
METHOD:PUBLISH
X-WR-CALNAME:Black Lake Fish &amp; Game Association
X-ORIGINAL-URL:https://www.blfga.org
X-WR-CALDESC:Events for Black Lake Fish &amp; Game Association
REFRESH-INTERVAL;VALUE=DURATION:PT1H
X-Robots-Tag:noindex
X-PUBLISHED-TTL:PT1H
BEGIN:VTIMEZONE
TZID:America/New_York
BEGIN:DAYLIGHT
TZOFFSETFROM:-0500
TZOFFSETTO:-0400
TZNAME:EDT
DTSTART:20240310T070000
END:DAYLIGHT
BEGIN:STANDARD
TZOFFSETFROM:-0400
TZOFFSETTO:-0500
TZNAME:EST
DTSTART:20241103T060000
END:STANDARD
BEGIN:DAYLIGHT
TZOFFSETFROM:-0500
TZOFFSETTO:-0400
TZNAME:EDT
DTSTART:20250309T070000
END:DAYLIGHT
BEGIN:STANDARD
TZOFFSETFROM:-0400
TZOFFSETTO:-0500
TZNAME:EST
DTSTART:20251102T060000
END:STANDARD
BEGIN:DAYLIGHT
TZOFFSETFROM:-0500
TZOFFSETTO:-0400
TZNAME:EDT
DTSTART:20260308T070000
END:DAYLIGHT
BEGIN:STANDARD
TZOFFSETFROM:-0400
TZOFFSETTO:-0500
TZNAME:EST
DTSTART:20261101T060000
END:STANDARD
END:VTIMEZONE
BEGIN:VEVENT
DTSTART;TZID=America/New_York:20250906T080000
DTEND;TZID=America/New_York:20250906T120000
DTSTAMP:20260425T081402
CREATED:20250818T122312Z
LAST-MODIFIED:20250818T125239Z
UID:2939-1757145600-1757160000@www.blfga.org
SUMMARY:BLFGA Fall 3D Archery Shoot ~ Saturday\, September 6th  8am-12pm
DESCRIPTION:Black Lake Fish & Game Assoc.\, Inc. 3-D Archery Shoot to benefit our Youth Archery Program!! \n\n\n\nSaturday\, September 6thRegistration 8am – 12pm \n\n\n\nModified version of IBO for classifications30+ TargetsCash prizes for top in each class \n\n\n\nEntry Fee:Adults – $20Kids (9-17) – $108 and under are FREE \n\n\n\nEnjoy a day of 3D archery\, 50/50 raffle & more \n\n\n\nCourse is located at 8 Rastley Rd – Gouverneur\, NY (NOTE: this not at the Black Lake Fish & Game Assoc.\, Inc.) \n\n\n\nContact Judd Reed @ (315) 778-7247 for more information
URL:https://www.blfga.org/event/blfga-fall-3d-archery-shoot-saturday-september-6th-8am-12pm/
CATEGORIES:Featured
ATTACH;FMTTYPE=image/jpeg:https://www.blfga.org/wp-content/uploads/2025/08/Fall-2025-3D-Archery-Shoot.jpg
END:VEVENT
BEGIN:VEVENT
DTSTART;TZID=America/New_York:20250913T090000
DTEND;TZID=America/New_York:20250913T130000
DTSTAMP:20260425T081402
CREATED:20250818T121817Z
LAST-MODIFIED:20250818T121820Z
UID:2936-1757754000-1757768400@www.blfga.org
SUMMARY:BLFGA Fall 50 Bird Shoot
DESCRIPTION:50 Bird Trap Shoot @ the BLFGA \n\n\n\n Date: Saturday\, September 13\, 2025 Time: 9:00 AM – 1:00 PM (last sign up @ 12:30pm) Location: Black Lake Fish & Game Association\, Inc.1 Gilmour Rd.\, Ogdensburg\, NY 13669 (corner of State Route 58 & Gilmour Rd) \n\n\n\n Cost: Adults $25 Juniors (age 12-17) $20 Optional Lewis Class $10 \n\n\n\n Prizes: Cash Prizes paid for each class (Tie for Classes – 25 = shoot off; otherwise reverse run score will be used) $100 Top Gun (Tie for Top Gun = shoot off) \n\n\n\n Other Events Happening on 9/13 @ the BLFGA…. Hunting & Fishing Sales & Swap Meet Craft & Vendor Booths Raffles & 50/50 Activities for Kids Concessions available all day @ the “Oasis II” And much more! \n\n\n\n**Free admission to Swap Meet at the Al & Illeane Ames Youth Outdoor Education Center @ the BLFGA with paid 50 Bird Shoot registration** \n\n\n\nhttps://www.facebook.com/events/1034739282064974
URL:https://www.blfga.org/event/blfga-fall-50-bird-shoot/
CATEGORIES:Featured
ATTACH;FMTTYPE=image/jpeg:https://www.blfga.org/wp-content/uploads/2025/08/BLFGA-50-Bird-Shoot-9-13-25-scaled.jpg
END:VEVENT
BEGIN:VEVENT
DTSTART;TZID=America/New_York:20250913T090000
DTEND;TZID=America/New_York:20250913T150000
DTSTAMP:20260425T081402
CREATED:20250818T120836Z
LAST-MODIFIED:20250818T125009Z
UID:2932-1757754000-1757775600@www.blfga.org
SUMMARY:BLFGA Fall Outdoor Show\, Swap Meet\, Craft/Vendor Fair & 50 Bird Shoot
DESCRIPTION: BLFGA Fall Hunting & Fishing Outdoors Sports Show\, Swap Meet & Craft/Vendor Fair!  \n\n\n\nJoin us for a day of family fun at the Black Lake Fish & Game Association\, Inc.!! Pick up some gear for the upcoming hunting season\, get those lures & gear for catching the big one\, get your Christmas shopping started early at our local crafter/vendors\, eat some great food\, and buy a raffle or 2!! \n\n\n\n Date: Saturday\, September 13\, 2025 Time: 9:00 AM – 3:00 PM Location: Black Lake Fish & Game Association\, Inc.1 Gilmour Rd.\, Ogdensburg\, NY 13669 (corner of State Route 58 & Gilmour Rd) \n\n\n\n Admission: $5 General Admission $3 for BLFGA Members Kids under 16: FREE \n\n\n\n What’s Happening? Hunting & Fishing Sales & Swap Meet Craft & Vendor Booths Raffles & 50/50 50 Bird Trap Shoot (see event details here) Activities for Kids Concessions available all day @ the “Oasis II” And much more! \n\n\n\nThere’s something for everyone\, so come check it out\, find great deals\, and support the BLFGA!!
URL:https://www.blfga.org/event/blfga-fall-outdoor-show-swap-meet-craft-vendor-fair-50-bird-shoot/
CATEGORIES:Featured
ATTACH;FMTTYPE=image/jpeg:https://www.blfga.org/wp-content/uploads/2025/08/BLFGA-Swap-Meet-9-13-25-scaled.jpg
END:VEVENT
BEGIN:VEVENT
DTSTART;TZID=America/New_York:20250918T190000
DTEND;TZID=America/New_York:20250918T190000
DTSTAMP:20260425T081402
CREATED:20241209T180829Z
LAST-MODIFIED:20250219T014549Z
UID:1973-1758222000-1758222000@www.blfga.org
SUMMARY:Monthly Meeting
DESCRIPTION:At the Clubhouse
URL:https://www.blfga.org/event/monthly-meeting-10/
END:VEVENT
BEGIN:VEVENT
DTSTART;TZID=America/New_York:20250919T170000
DTEND;TZID=America/New_York:20250919T200000
DTSTAMP:20260425T081402
CREATED:20250702T123545Z
LAST-MODIFIED:20250702T123548Z
UID:2889-1758301200-1758312000@www.blfga.org
SUMMARY:Steel Challenge
DESCRIPTION:3rd Friday of the every month starting in May (5/16) going until October.5pm – done or dark! ~ $10/per person; must be a member of the BLFGA! \n\n\n\nNot sure what Steel Challenge is?….Steel Challenge is a speed shooting competition that involves shooting arrays of steel targets while timed. Our set has plates for Showdown\, Smoke & Hope\, Outer Limits\, Speed Option\, The Pendulum\, 5 to Go\, Roundabout and Accelerator so whatever stages Judd Reed decides to set up that night is what you’ll shoot! Each stage has set number of steel plate targets of various sizes set at different distances. There is a designated “stop plate” which must be shot last in sequence on the stage. \n\n\n\nYou don’t have to be a pro to shoot\, just come try it out and have fun! \n\n\n\n**Pistol calibers only\, NO MAGNUMS\, .22 rimfire rifles are acceptable** \n\n\n\nAny questions\, please contact Judd Reed @ 315-778-7247 \n\n\n\n**Memberships can be purchased online (www.blfga.org)\, at Echoes on the Lake or in person at the club*
URL:https://www.blfga.org/event/steel-challenge-3/
END:VEVENT
BEGIN:VEVENT
DTSTART;TZID=America/New_York:20250920T080000
DTEND;TZID=America/New_York:20250920T170000
DTSTAMP:20260425T081402
CREATED:20250910T123225Z
LAST-MODIFIED:20250910T123229Z
UID:3014-1758355200-1758387600@www.blfga.org
SUMMARY:Bowhunter Safety Course @ the BLFGA
DESCRIPTION:The NYS Bowhunter Education course is required for hunters who use a bow or crossbow to hunt deer or bear. While this course is not required for using a bow or crossbow to hunt small game or turkey\, DEC encourages you to take this course to learn bow and tree stand safety techniques \n\n\n\nNOTE All courses require the completion of homework prior to attending the course. If you do not complete the homework you cannot complete the course.  Manuals with homework sheet will be available at the club in a clear tot on the front deck or on line. If you do the online class use the free choice option. \n\n\n\nIMPORTANT MINIMUM AGE FOR COURSE: 11 YEARS (Minimum age for a license is 12 years). \n\n\n\nSign up online https://www.register-ed.com/events/view/234337
URL:https://www.blfga.org/event/bowhunter-safety-course-the-blfga/
CATEGORIES:Featured
END:VEVENT
BEGIN:VEVENT
DTSTART;TZID=America/New_York:20250927T080000
DTEND;TZID=America/New_York:20250928T170000
DTSTAMP:20260425T081402
CREATED:20250819T123513Z
LAST-MODIFIED:20250819T123518Z
UID:2971-1758960000-1759078800@www.blfga.org
SUMMARY:18-Hr Carry Conceal Class
DESCRIPTION:18-Hr Carry Conceal Class (8am – 5pm) on Saturday\, September 27th and Sunday\, September 28th @ the BLFGA \n\n\n\nClasses by Judd Reed @ Straight Line Training \n\n\n\nText\, Call or Email Judd Redd to reserve your spot \n\n\n\n315-778-7247 \n\n\n\nstraightlinetraining68@gmail.com \n\n\n\nClass fee is $200 for BLFGA members. You must become a member to take the class which is an additional\, separate $50 (total cost $250) \n\n\n\nClass limit is 20 students
URL:https://www.blfga.org/event/18-hr-carry-conceal-class/
END:VEVENT
END:VCALENDAR