BEGIN:VCALENDAR
VERSION:2.0
PRODID:-//Black Lake Fish &amp; Game Association - ECPv6.15.20//NONSGML v1.0//EN
CALSCALE:GREGORIAN
METHOD:PUBLISH
X-ORIGINAL-URL:https://www.blfga.org
X-WR-CALDESC:Events for Black Lake Fish &amp; Game Association
REFRESH-INTERVAL;VALUE=DURATION:PT1H
X-Robots-Tag:noindex
X-PUBLISHED-TTL:PT1H
BEGIN:VTIMEZONE
TZID:America/New_York
BEGIN:DAYLIGHT
TZOFFSETFROM:-0500
TZOFFSETTO:-0400
TZNAME:EDT
DTSTART:20240310T070000
END:DAYLIGHT
BEGIN:STANDARD
TZOFFSETFROM:-0400
TZOFFSETTO:-0500
TZNAME:EST
DTSTART:20241103T060000
END:STANDARD
BEGIN:DAYLIGHT
TZOFFSETFROM:-0500
TZOFFSETTO:-0400
TZNAME:EDT
DTSTART:20250309T070000
END:DAYLIGHT
BEGIN:STANDARD
TZOFFSETFROM:-0400
TZOFFSETTO:-0500
TZNAME:EST
DTSTART:20251102T060000
END:STANDARD
BEGIN:DAYLIGHT
TZOFFSETFROM:-0500
TZOFFSETTO:-0400
TZNAME:EDT
DTSTART:20260308T070000
END:DAYLIGHT
BEGIN:STANDARD
TZOFFSETFROM:-0400
TZOFFSETTO:-0500
TZNAME:EST
DTSTART:20261101T060000
END:STANDARD
END:VTIMEZONE
BEGIN:VEVENT
DTSTART;TZID=America/New_York:20250601T080000
DTEND;TZID=America/New_York:20250601T120000
DTSTAMP:20260425T122518
CREATED:20250519T180816Z
LAST-MODIFIED:20250519T180818Z
UID:2752-1748764800-1748779200@www.blfga.org
SUMMARY:Take A Kid Fishing Day
DESCRIPTION:The Black Lake Fish & Game Club in conjuction with McLear’s Cottage Colony & Campground is organizing their annual “Take a Kid Fishing Day” for kids ages 7-15. \n\n\n\nThis will be held at McLear’s Cottage Colony & Campground on Sunday\, June 1st at 8:00am. Lunch will be provided.Kids will learn about local fish species and the rules and regulations of fishing as well as go fishing on the lake accompanied by an experienced fisherman.The only cost is a Jr. membership to the Black Lake Fish and Game Club -$5Memberships will be sold that day. \n\n\n\n*Please RSVP by sending a message to our Facebook page with the number of kids you will be bringing.We are looking for boaters to take one or two kids out fishing for 2 hours. \n\n\n\nIf you are interested in donating your time and boat to assist in this event\, please send a message to our website on Facebook or call Liz Simons at 315 486 6046. \n\n\n\nThank you\, we want to make it fun and educational!
URL:https://www.blfga.org/event/take-a-kid-fishing-day/
END:VEVENT
BEGIN:VEVENT
DTSTART;TZID=America/New_York:20250607T080000
DTEND;TZID=America/New_York:20250608T170000
DTSTAMP:20260425T122518
CREATED:20250414T174822Z
LAST-MODIFIED:20250414T175048Z
UID:2674-1749283200-1749402000@www.blfga.org
SUMMARY:18-Hr Pistol Permit Class
DESCRIPTION:18-Hr Pistol Permit Class (8am – 5pm) on Saturday\, June 7th and Sunday\, June 8th @ the BLFGA \n\n\n\nClasses by Judd Reed @ Straight Line Training \n\n\n\nText\, Call or Email Judd Redd to reserve your spot  \n\n\n\n315-778-7247 \n\n\n\nstraightlinetraining68@gmail.com \n\n\n\n$250 (Non-Members of the BLFGA) \n\n\n\n$200 (Members of the BLFGA)
URL:https://www.blfga.org/event/18-hr-pistol-permit-class-3/
END:VEVENT
BEGIN:VEVENT
DTSTART;TZID=America/New_York:20250619T190000
DTEND;TZID=America/New_York:20250619T190000
DTSTAMP:20260425T122518
CREATED:20241209T180740Z
LAST-MODIFIED:20250612T121955Z
UID:1967-1750359600-1750359600@www.blfga.org
SUMMARY:Monthly Meeting
DESCRIPTION:At the Clubhouse
URL:https://www.blfga.org/event/monthly-meeting-7/
END:VEVENT
END:VCALENDAR