BEGIN:VCALENDAR
VERSION:2.0
PRODID:-//Black Lake Fish &amp; Game Association - ECPv6.15.20//NONSGML v1.0//EN
CALSCALE:GREGORIAN
METHOD:PUBLISH
X-WR-CALNAME:Black Lake Fish &amp; Game Association
X-ORIGINAL-URL:https://www.blfga.org
X-WR-CALDESC:Events for Black Lake Fish &amp; Game Association
REFRESH-INTERVAL;VALUE=DURATION:PT1H
X-Robots-Tag:noindex
X-PUBLISHED-TTL:PT1H
BEGIN:VTIMEZONE
TZID:America/New_York
BEGIN:DAYLIGHT
TZOFFSETFROM:-0500
TZOFFSETTO:-0400
TZNAME:EDT
DTSTART:20240310T070000
END:DAYLIGHT
BEGIN:STANDARD
TZOFFSETFROM:-0400
TZOFFSETTO:-0500
TZNAME:EST
DTSTART:20241103T060000
END:STANDARD
BEGIN:DAYLIGHT
TZOFFSETFROM:-0500
TZOFFSETTO:-0400
TZNAME:EDT
DTSTART:20250309T070000
END:DAYLIGHT
BEGIN:STANDARD
TZOFFSETFROM:-0400
TZOFFSETTO:-0500
TZNAME:EST
DTSTART:20251102T060000
END:STANDARD
BEGIN:DAYLIGHT
TZOFFSETFROM:-0500
TZOFFSETTO:-0400
TZNAME:EDT
DTSTART:20260308T070000
END:DAYLIGHT
BEGIN:STANDARD
TZOFFSETFROM:-0400
TZOFFSETTO:-0500
TZNAME:EST
DTSTART:20261101T060000
END:STANDARD
END:VTIMEZONE
BEGIN:VEVENT
DTSTART;TZID=America/New_York:20250504T160000
DTEND;TZID=America/New_York:20250504T180000
DTSTAMP:20260425T134747
CREATED:20250414T181301Z
LAST-MODIFIED:20250414T181307Z
UID:2691-1746374400-1746381600@www.blfga.org
SUMMARY:Spaghetti Dinner & Kitchen Dedication
DESCRIPTION:Join us at the Black Lake Fish & Game Club on Sunday\, May 4th for a delicious spaghetti dinner. Prior to the spaghetti dinner we will have a dedication ceremony to dedicate the new kitchen to the Tom & Jean Ryan & family. All are invited to attend!! \n\n\n\n4pm – Kitchen Dedication to the Tom & Jean Ryan & familyPatti Perry\, Ann Showers\, Debbie Aldrich\, Terri Gilmour and families \n\n\n\n4:30pm-6pm – Spaghetti Dinner (spaghetti & meatballs\, salad bar\, italian bread\, cake and beverage). Dine in or take out available \n\n\n\nCost – $12 ($10 for BLFGA members); 6 and under are free \n\n\n\nBring your family & friends and enjoy a wonderful dinner with the proceeds benefiting the BLFGA. We look forward to seeing you on Sunday\, May 4th!! \n\n\n\nIf you would like to pre-order for take out only please contact Penny Young @ (315) 276-4500. Call (after 4pm) or text anytime.
URL:https://www.blfga.org/event/spaghetti-dinner-kitchen-dedication/
END:VEVENT
BEGIN:VEVENT
DTSTART;TZID=America/New_York:20250510T080000
DTEND;TZID=America/New_York:20250511T170000
DTSTAMP:20260425T134747
CREATED:20250414T174658Z
LAST-MODIFIED:20250414T175010Z
UID:2672-1746864000-1746982800@www.blfga.org
SUMMARY:18-Hr Pistol Permit Class
DESCRIPTION:18-Hr Pistol Permit Class (8am – 5pm) on Saturday\, May 10th and Sunday\, May 11th @ the BLFGA \n\n\n\nClasses by Judd Reed @ Straight Line Training \n\n\n\nText\, Call or Email Judd Redd to reserve your spot  \n\n\n\n315-778-7247 \n\n\n\nstraightlinetraining68@gmail.com \n\n\n\n$250 (Non-Members of the BLFGA) \n\n\n\n$200 (Members of the BLFGA)
URL:https://www.blfga.org/event/18-hr-pistol-permit-class-2/
END:VEVENT
BEGIN:VEVENT
DTSTART;TZID=America/New_York:20250515T190000
DTEND;TZID=America/New_York:20250515T190000
DTSTAMP:20260425T134747
CREATED:20241209T180715Z
LAST-MODIFIED:20250219T014343Z
UID:1965-1747335600-1747335600@www.blfga.org
SUMMARY:Monthly Meeting
DESCRIPTION:At the Clubhouse
URL:https://www.blfga.org/event/monthly-meeting-6/
END:VEVENT
BEGIN:VEVENT
DTSTART;TZID=America/New_York:20250531T090000
DTEND;TZID=America/New_York:20250531T150000
DTSTAMP:20260425T134747
CREATED:20250519T175850Z
LAST-MODIFIED:20250519T183018Z
UID:2750-1748682000-1748703600@www.blfga.org
SUMMARY:BLFGA 3rd Annual High School Trap Invitational & Craft/Vendor Fair
DESCRIPTION:A couple different things happening at the BLFGA on Saturday\, May 31st from 9am – 3pm…. \n\n\n\n**High School Trap Invitational**Come out and support over 130 students from 13 High School Trap Teams as they compete in the 3rd Annual BLFGA High School 50 Bird Trap Invitational. Students from Morristown\, Heuvelton\, Hammond\, OFA\, Gouverneur\, Lisbon\, Indian River\, Harrisville\, Alex Bay\, Norwood-Norfolk\, Potsdam\, St. Lawrence Central\, & Brushton-Moira \n\n\n\n**Craft & Vendor Fair**9am – 3pmShop local crafter/vendors INSIDE the Al & Illeane Ames Youth Outdoor Education Center @ the BLFGA (we are FULL with over 20+ vendors) \n\n\n\n**Concessions**The College FundAlaina’s\, “Not Like the Other Grill’s”Stone-Ez Pizza \n\n\n\nSOMETHING FOR EVERYONE!! RAIN OR SHINE!! \n\n\n\nCome out and watch area High School students shoot trap\, shop the craft/vendor fair inside the new building and grab something to eat! Bucket Raffles & 50/50 Raffle too!! \n\n\n\nProceeds from this event will be used to help purchase an electronic sign for the BLFGA.
URL:https://www.blfga.org/event/blfga-3rd-annual-high-school-trap-invitational-craft-vendor-fair/
END:VEVENT
END:VCALENDAR