BEGIN:VCALENDAR
VERSION:2.0
PRODID:-//Black Lake Fish &amp; Game Association - ECPv6.15.20//NONSGML v1.0//EN
CALSCALE:GREGORIAN
METHOD:PUBLISH
X-ORIGINAL-URL:https://www.blfga.org
X-WR-CALDESC:Events for Black Lake Fish &amp; Game Association
REFRESH-INTERVAL;VALUE=DURATION:PT1H
X-Robots-Tag:noindex
X-PUBLISHED-TTL:PT1H
BEGIN:VTIMEZONE
TZID:America/New_York
BEGIN:DAYLIGHT
TZOFFSETFROM:-0500
TZOFFSETTO:-0400
TZNAME:EDT
DTSTART:20240310T070000
END:DAYLIGHT
BEGIN:STANDARD
TZOFFSETFROM:-0400
TZOFFSETTO:-0500
TZNAME:EST
DTSTART:20241103T060000
END:STANDARD
BEGIN:DAYLIGHT
TZOFFSETFROM:-0500
TZOFFSETTO:-0400
TZNAME:EDT
DTSTART:20250309T070000
END:DAYLIGHT
BEGIN:STANDARD
TZOFFSETFROM:-0400
TZOFFSETTO:-0500
TZNAME:EST
DTSTART:20251102T060000
END:STANDARD
BEGIN:DAYLIGHT
TZOFFSETFROM:-0500
TZOFFSETTO:-0400
TZNAME:EDT
DTSTART:20260308T070000
END:DAYLIGHT
BEGIN:STANDARD
TZOFFSETFROM:-0400
TZOFFSETTO:-0500
TZNAME:EST
DTSTART:20261101T060000
END:STANDARD
END:VTIMEZONE
BEGIN:VEVENT
DTSTART;TZID=America/New_York:20250412T090000
DTEND;TZID=America/New_York:20250412T150000
DTSTAMP:20260425T163725
CREATED:20250228T171317Z
LAST-MODIFIED:20250228T171319Z
UID:2622-1744448400-1744470000@www.blfga.org
SUMMARY:BLFGA Spring Swap Meet & Craft/Vendor Fair
DESCRIPTION:BLFGA Hunting & Fishing Swap Meet & Craft/Vendor Event \n\n\n\nHave an overabundance of hunting\, trapping\, fishing\, reloading\, archery equipment\, camping gear\, etc that you are not using and would like a chance to sell some of it? This is your place to do so!! New and Used Items!! \n\n\n\nLooking for some gently loved or even new gear for yourself\, kids or grandkids? Or come take a look around and you may just find something unique from one of our crafters/vendors!! \n\n\n\n*Rent a 10×10 space – comes with 1 table & 2 chairs for $25. Additional spaces are available for $20 each. \n\n\n\n*Admission – $5 ($3 for BLFGA members) ~ Kids 16 & under are FREE \n\n\n\nRaffles\, 50/50\, Activities for Kids and much more!! Something for everyone!! \n\n\n\nConcessions will be available all day!! \n\n\n\nContact Penny Young for an application (ONLY BOOK WITH PENNY YOUNG!! – there are scammers out there trying to post on event pages) 315-276-4500 text or call after 4pm (leave a message) or email – club@blfga.org
URL:https://www.blfga.org/event/blfga-spring-swap-meet-craft-vendor-fair/
END:VEVENT
BEGIN:VEVENT
DTSTART;TZID=America/New_York:20250417T190000
DTEND;TZID=America/New_York:20250417T190000
DTSTAMP:20260425T163725
CREATED:20241209T180659Z
LAST-MODIFIED:20250219T014312Z
UID:1963-1744916400-1744916400@www.blfga.org
SUMMARY:Monthly Meeting
DESCRIPTION:At the Clubhouse
URL:https://www.blfga.org/event/monthly-meeting-5/
END:VEVENT
BEGIN:VEVENT
DTSTART;TZID=America/New_York:20250419T080000
DTEND;TZID=America/New_York:20250420T170000
DTSTAMP:20260425T163725
CREATED:20250414T174535Z
LAST-MODIFIED:20250414T175125Z
UID:2670-1745049600-1745168400@www.blfga.org
SUMMARY:18-Hr Pistol Permit Class
DESCRIPTION:18-Hr Pistol Permit Class (8am – 5pm) on Saturday\, April 19th and Sunday\, April 20th @ the BLFGA \n\n\n\nClasses by Judd Reed @ Straight Line Training \n\n\n\nText\, Call or Email Judd Redd to reserve your spot  \n\n\n\n315-778-7247 \n\n\n\nstraightlinetraining68@gmail.com \n\n\n\n$250 (Non-Members of the BLFGA) \n\n\n\n$200 (Members of the BLFGA)
URL:https://www.blfga.org/event/18-hr-pistol-permit-class/
END:VEVENT
BEGIN:VEVENT
DTSTART;TZID=America/New_York:20250426T080000
DTEND;TZID=America/New_York:20250427T170000
DTSTAMP:20260425T163725
CREATED:20250415T175616Z
LAST-MODIFIED:20250415T175644Z
UID:2715-1745654400-1745773200@www.blfga.org
SUMMARY:18-Hr Pistol Permit Class
DESCRIPTION:18-Hr Pistol Permit Class (8am – 5pm) on Saturday\, April 26th and Sunday\, April 27th @ the BLFGA \n\n\n\nClasses by Judd Reed @ Straight Line Training \n\n\n\nText\, Call or Email Judd Reed to reserve your spot \n\n\n\n315-778-7247 \n\n\n\nstraightlinetraining68@gmail.com \n\n\n\n$250 (Non-Members of the BLFGA) \n\n\n\n$200 (Members of the BLFGA)
URL:https://www.blfga.org/event/18-hr-pistol-permit-class-5/
END:VEVENT
END:VCALENDAR