BEGIN:VCALENDAR
VERSION:2.0
PRODID:-//Black Lake Fish &amp; Game Association - ECPv6.15.20//NONSGML v1.0//EN
CALSCALE:GREGORIAN
METHOD:PUBLISH
X-WR-CALNAME:Black Lake Fish &amp; Game Association
X-ORIGINAL-URL:https://www.blfga.org
X-WR-CALDESC:Events for Black Lake Fish &amp; Game Association
REFRESH-INTERVAL;VALUE=DURATION:PT1H
X-Robots-Tag:noindex
X-PUBLISHED-TTL:PT1H
BEGIN:VTIMEZONE
TZID:America/New_York
BEGIN:DAYLIGHT
TZOFFSETFROM:-0500
TZOFFSETTO:-0400
TZNAME:EDT
DTSTART:20240310T070000
END:DAYLIGHT
BEGIN:STANDARD
TZOFFSETFROM:-0400
TZOFFSETTO:-0500
TZNAME:EST
DTSTART:20241103T060000
END:STANDARD
BEGIN:DAYLIGHT
TZOFFSETFROM:-0500
TZOFFSETTO:-0400
TZNAME:EDT
DTSTART:20250309T070000
END:DAYLIGHT
BEGIN:STANDARD
TZOFFSETFROM:-0400
TZOFFSETTO:-0500
TZNAME:EST
DTSTART:20251102T060000
END:STANDARD
BEGIN:DAYLIGHT
TZOFFSETFROM:-0500
TZOFFSETTO:-0400
TZNAME:EDT
DTSTART:20260308T070000
END:DAYLIGHT
BEGIN:STANDARD
TZOFFSETFROM:-0400
TZOFFSETTO:-0500
TZNAME:EST
DTSTART:20261101T060000
END:STANDARD
END:VTIMEZONE
BEGIN:VEVENT
DTSTART;TZID=America/New_York:20250308T080000
DTEND;TZID=America/New_York:20250308T170000
DTSTAMP:20260425T192628
CREATED:20250219T135140Z
LAST-MODIFIED:20250219T135142Z
UID:2568-1741420800-1741453200@www.blfga.org
SUMMARY:Hunter Education Course
DESCRIPTION:Must sign up online for the Hunter Education Course by clicking this link. \n\n\n\nPLEASE CONTACT LAWRENCE KRING TO GET THE WORKBOOK THAT INCLUDES THE HOMEWORK.  (315) 323-2107 \n\n\n\nHunter Education is required for all hunting licenses\, including bowhunting. This course covers firearms safety\, hunting techniques and responsible\, ethical hunting practices. \n\n\n\nNOTE All courses require the completion of homework prior to attending the course. If you do not complete the homework you cannot complete the course. \n\n\n\nIMPORTANT MINIMUM AGE FOR COURSE: 11 YEARS (Minimum age for a license is 12 years). \n\n\n\nSome students\, such as those under the age of 12\, those with civil or criminal firearms restrictions\, or those barred from possessing a firearm\, may not be able to handle and shoot live firearms during a hunter education course. If this includes you\, please notify an instructor when you arrive for your course \n\n\n\nREQUIREMENT ALL STUDENTS UNDER 16 YEARS OF AGE MUST bring a  Permission Slip (PDF) (54 KB) signed by a parent or legal guardian. You can find more information on the Hunter Education course here.
URL:https://www.blfga.org/event/hunter-education-course/
END:VEVENT
BEGIN:VEVENT
DTSTART;TZID=America/New_York:20250310T173000
DTEND;TZID=America/New_York:20250310T193000
DTSTAMP:20260425T192628
CREATED:20250113T181502Z
LAST-MODIFIED:20250113T181504Z
UID:2289-1741627800-1741635000@www.blfga.org
SUMMARY:Youth Archery ~ Ages 6-9 5:30-6:30pm; Ages 10+ 6:30-7:30pm
DESCRIPTION:$5 Jr Membership to the BLFGA (good until 12/31/25) \n\n\n\n$5 weekly each Monday you attend
URL:https://www.blfga.org/event/youth-archery-ages-6-9-530-630pm-ages-10-630-730pm-7/
END:VEVENT
BEGIN:VEVENT
DTSTART;TZID=America/New_York:20250317T173000
DTEND;TZID=America/New_York:20250317T193000
DTSTAMP:20260425T192628
CREATED:20250113T181552Z
LAST-MODIFIED:20250113T181555Z
UID:2291-1742232600-1742239800@www.blfga.org
SUMMARY:Youth Archery ~ Ages 6-9 5:30-6:30pm; Ages 10+ 6:30-7:30pm
DESCRIPTION:$5 Jr Membership to the BLFGA (good until 12/31/25) \n\n\n\n$5 weekly each Monday you attend
URL:https://www.blfga.org/event/youth-archery-ages-6-9-530-630pm-ages-10-630-730pm-8/
END:VEVENT
BEGIN:VEVENT
DTSTART;TZID=America/New_York:20250320T190000
DTEND;TZID=America/New_York:20250320T190000
DTSTAMP:20260425T192628
CREATED:20241209T180643Z
LAST-MODIFIED:20250219T014227Z
UID:1961-1742497200-1742497200@www.blfga.org
SUMMARY:Monthly Meeting
DESCRIPTION:At the Clubhouse
URL:https://www.blfga.org/event/monthly-meeting-4/
END:VEVENT
END:VCALENDAR