BEGIN:VCALENDAR
VERSION:2.0
PRODID:-//Black Lake Fish &amp; Game Association - ECPv6.15.20//NONSGML v1.0//EN
CALSCALE:GREGORIAN
METHOD:PUBLISH
X-WR-CALNAME:Black Lake Fish &amp; Game Association
X-ORIGINAL-URL:https://www.blfga.org
X-WR-CALDESC:Events for Black Lake Fish &amp; Game Association
REFRESH-INTERVAL;VALUE=DURATION:PT1H
X-Robots-Tag:noindex
X-PUBLISHED-TTL:PT1H
BEGIN:VTIMEZONE
TZID:America/New_York
BEGIN:DAYLIGHT
TZOFFSETFROM:-0500
TZOFFSETTO:-0400
TZNAME:EDT
DTSTART:20230312T070000
END:DAYLIGHT
BEGIN:STANDARD
TZOFFSETFROM:-0400
TZOFFSETTO:-0500
TZNAME:EST
DTSTART:20231105T060000
END:STANDARD
BEGIN:DAYLIGHT
TZOFFSETFROM:-0500
TZOFFSETTO:-0400
TZNAME:EDT
DTSTART:20240310T070000
END:DAYLIGHT
BEGIN:STANDARD
TZOFFSETFROM:-0400
TZOFFSETTO:-0500
TZNAME:EST
DTSTART:20241103T060000
END:STANDARD
BEGIN:DAYLIGHT
TZOFFSETFROM:-0500
TZOFFSETTO:-0400
TZNAME:EDT
DTSTART:20250309T070000
END:DAYLIGHT
BEGIN:STANDARD
TZOFFSETFROM:-0400
TZOFFSETTO:-0500
TZNAME:EST
DTSTART:20251102T060000
END:STANDARD
BEGIN:DAYLIGHT
TZOFFSETFROM:-0500
TZOFFSETTO:-0400
TZNAME:EDT
DTSTART:20260308T070000
END:DAYLIGHT
BEGIN:STANDARD
TZOFFSETFROM:-0400
TZOFFSETTO:-0500
TZNAME:EST
DTSTART:20261101T060000
END:STANDARD
END:VTIMEZONE
BEGIN:VEVENT
DTSTART;TZID=America/New_York:20250220T190000
DTEND;TZID=America/New_York:20250220T203000
DTSTAMP:20260424T095200
CREATED:20241209T180624Z
LAST-MODIFIED:20241223T161754Z
UID:1959-1740078000-1740083400@www.blfga.org
SUMMARY:Monthly Meeting
DESCRIPTION:At the Clubhouse
URL:https://www.blfga.org/event/monthly-meeting-3/
END:VEVENT
BEGIN:VEVENT
DTSTART;TZID=America/New_York:20250217T173000
DTEND;TZID=America/New_York:20250217T193000
DTSTAMP:20260424T095200
CREATED:20250113T181218Z
LAST-MODIFIED:20250113T181219Z
UID:2283-1739813400-1739820600@www.blfga.org
SUMMARY:Youth Archery ~ Ages 6-9 5:30-6:30pm; Ages 10+ 6:30-7:30pm
DESCRIPTION:$5 Jr Membership to the BLFGA (good until 12/31/25) \n\n\n\n$5 weekly each Monday you attend
URL:https://www.blfga.org/event/youth-archery-ages-6-9-530-630pm-ages-10-630-730pm-4/
END:VEVENT
BEGIN:VEVENT
DTSTART;TZID=America/New_York:20250210T173000
DTEND;TZID=America/New_York:20250210T193000
DTSTAMP:20260424T095200
CREATED:20250113T181047Z
LAST-MODIFIED:20250113T181049Z
UID:2281-1739208600-1739215800@www.blfga.org
SUMMARY:Youth Archery ~ Ages 6-9 5:30-6:30pm; Ages 10+ 6:30-7:30pm
DESCRIPTION:$5 Jr Membership to the BLFGA (good until 12/31/25) \n\n\n\n$5 weekly each Monday you attend
URL:https://www.blfga.org/event/youth-archery-ages-6-9-530-630pm-ages-10-630-730pm-3/
END:VEVENT
BEGIN:VEVENT
DTSTART;TZID=America/New_York:20250203T183000
DTEND;TZID=America/New_York:20250203T203000
DTSTAMP:20260424T095200
CREATED:20250113T184207Z
LAST-MODIFIED:20250113T184207Z
UID:2302-1738607400-1738614600@www.blfga.org
SUMMARY:NO Youth Archery Tonight - Enjoy the Circus at Morristown CSD
DESCRIPTION:There will be NO Youth Archery on Monday\, February 3rd.  Enjoy the circus at Morristown Central School to support the MCS PTO!!
URL:https://www.blfga.org/event/no-youth-archery-tonight-enjoy-the-circus-at-morristown-csd/
END:VEVENT
BEGIN:VEVENT
DTSTART;TZID=America/New_York:20250127T173000
DTEND;TZID=America/New_York:20250127T193000
DTSTAMP:20260424T095200
CREATED:20250113T180940Z
LAST-MODIFIED:20250113T180942Z
UID:2279-1737999000-1738006200@www.blfga.org
SUMMARY:Youth Archery ~ Ages 6-9 5:30-6:30pm; Ages 10+ 6:30-7:30pm
DESCRIPTION:$5 Jr Membership to the BLFGA (good until 12/31/25) \n\n\n\n$5 weekly each Monday you attend
URL:https://www.blfga.org/event/youth-archery-ages-6-9-530-630pm-ages-10-630-730pm-2/
END:VEVENT
BEGIN:VEVENT
DTSTART;TZID=America/New_York:20250125T070000
DTEND;TZID=America/New_York:20250125T150000
DTSTAMP:20260424T095200
CREATED:20241209T181046Z
LAST-MODIFIED:20250104T232358Z
UID:1981-1737788400-1737817200@www.blfga.org
SUMMARY:Ice Fishing Derby
DESCRIPTION:
URL:https://www.blfga.org/event/ice-fishing-derby/
CATEGORIES:Featured
END:VEVENT
BEGIN:VEVENT
DTSTART;TZID=America/New_York:20250120T173000
DTEND;TZID=America/New_York:20250120T193000
DTSTAMP:20260424T095200
CREATED:20250113T180837Z
LAST-MODIFIED:20250113T180839Z
UID:2277-1737394200-1737401400@www.blfga.org
SUMMARY:Youth Archery ~ Ages 6-9 5:30-6:30pm; Ages 10+ 6:30-7:30pm
DESCRIPTION:$5 Jr Membership to the BLFGA (good until 12/31/25) \n\n\n\n$5 weekly each Monday you attend
URL:https://www.blfga.org/event/youth-archery-ages-6-9-530-630pm-ages-10-630-730pm/
END:VEVENT
BEGIN:VEVENT
DTSTART;TZID=America/New_York:20250116T190000
DTEND;TZID=America/New_York:20250116T203000
DTSTAMP:20260424T095200
CREATED:20241209T180526Z
LAST-MODIFIED:20241223T161717Z
UID:1957-1737054000-1737059400@www.blfga.org
SUMMARY:Monthly Meeting
DESCRIPTION:At the Clubhouse
URL:https://www.blfga.org/event/monthly-meeting-2/
END:VEVENT
BEGIN:VEVENT
DTSTART;TZID=America/New_York:20250116T183000
DTEND;TZID=America/New_York:20250116T193000
DTSTAMP:20260424T095200
CREATED:20250113T183335Z
LAST-MODIFIED:20250113T183336Z
UID:2300-1737052200-1737055800@www.blfga.org
SUMMARY:Open Adult Archery
DESCRIPTION:A relaxed\, fun evening of open indoor archery!Crossbows are welcome for open archery. Can’t make it every Thursday night\, that’s okay – just attend whenever you can! \n\n\n\nA \n\n\n\nMembership to the BLFGA is required!  Regular – $50; Couple – $70; Family – $100 \n\n\n\n$5 each week you attend
URL:https://www.blfga.org/event/open-adult-archery/
END:VEVENT
BEGIN:VEVENT
DTSTART;TZID=America/New_York:20250116T180000
DTEND;TZID=America/New_York:20250116T183000
DTSTAMP:20260424T095200
CREATED:20250113T182443Z
LAST-MODIFIED:20250113T182445Z
UID:2298-1737050400-1737052200@www.blfga.org
SUMMARY:Adult Archery - League Info Meeting
DESCRIPTION:Meeting @ 6pm for those that are interested in starting an Adult Archery League.  Come with your ideas and we’ll figure out a plan if there is enough interest!
URL:https://www.blfga.org/event/adult-archery-league-info-meeting/
END:VEVENT
BEGIN:VEVENT
DTSTART;TZID=America/New_York:20250113T173000
DTEND;TZID=America/New_York:20250113T193000
DTSTAMP:20260424T095200
CREATED:20250113T180233Z
LAST-MODIFIED:20250113T180647Z
UID:2273-1736789400-1736796600@www.blfga.org
SUMMARY:Youth Archery ~ Ages 6-9 5:30-6:30pm; Ages 10+ 6:30-7:30pm
DESCRIPTION:$5 Jr Membership to the BLFGA (good until 12/31/25) \n\n\n\n$5 weekly each Monday you attend
URL:https://www.blfga.org/event/youth-archery/
END:VEVENT
BEGIN:VEVENT
DTSTART;TZID=America/New_York:20241219T190000
DTEND;TZID=America/New_York:20241219T203000
DTSTAMP:20260424T095200
CREATED:20241209T175812Z
LAST-MODIFIED:20241223T161534Z
UID:1950-1734634800-1734640200@www.blfga.org
SUMMARY:Monthly Meeting
DESCRIPTION:At the Club House
URL:https://www.blfga.org/event/monthly-meeting/
LOCATION:Club House
END:VEVENT
END:VCALENDAR