BEGIN:VCALENDAR
VERSION:2.0
PRODID:-//Black Lake Fish &amp; Game Association - ECPv6.15.20//NONSGML v1.0//EN
CALSCALE:GREGORIAN
METHOD:PUBLISH
X-ORIGINAL-URL:https://www.blfga.org
X-WR-CALDESC:Events for Black Lake Fish &amp; Game Association
REFRESH-INTERVAL;VALUE=DURATION:PT1H
X-Robots-Tag:noindex
X-PUBLISHED-TTL:PT1H
BEGIN:VTIMEZONE
TZID:America/New_York
BEGIN:DAYLIGHT
TZOFFSETFROM:-0500
TZOFFSETTO:-0400
TZNAME:EDT
DTSTART:20240310T070000
END:DAYLIGHT
BEGIN:STANDARD
TZOFFSETFROM:-0400
TZOFFSETTO:-0500
TZNAME:EST
DTSTART:20241103T060000
END:STANDARD
BEGIN:DAYLIGHT
TZOFFSETFROM:-0500
TZOFFSETTO:-0400
TZNAME:EDT
DTSTART:20250309T070000
END:DAYLIGHT
BEGIN:STANDARD
TZOFFSETFROM:-0400
TZOFFSETTO:-0500
TZNAME:EST
DTSTART:20251102T060000
END:STANDARD
BEGIN:DAYLIGHT
TZOFFSETFROM:-0500
TZOFFSETTO:-0400
TZNAME:EDT
DTSTART:20260308T070000
END:DAYLIGHT
BEGIN:STANDARD
TZOFFSETFROM:-0400
TZOFFSETTO:-0500
TZNAME:EST
DTSTART:20261101T060000
END:STANDARD
BEGIN:DAYLIGHT
TZOFFSETFROM:-0500
TZOFFSETTO:-0400
TZNAME:EDT
DTSTART:20270314T070000
END:DAYLIGHT
BEGIN:STANDARD
TZOFFSETFROM:-0400
TZOFFSETTO:-0500
TZNAME:EST
DTSTART:20271107T060000
END:STANDARD
END:VTIMEZONE
BEGIN:VEVENT
DTSTART;TZID=America/New_York:20260105T180000
DTEND;TZID=America/New_York:20260105T200000
DTSTAMP:20260423T161300
CREATED:20260105T164408Z
LAST-MODIFIED:20260105T164411Z
UID:3225-1767636000-1767643200@www.blfga.org
SUMMARY:Youth Archery ~ Ages 6-9 6-7pm; Ages 10+ 7-8pm
DESCRIPTION:$5 Jr Membership to the BLFGA (good until 12/31/26) \n\n\n\n$5 weekly each Monday you attend
URL:https://www.blfga.org/event/youth-archery-ages-6-9-6-7pm-ages-10-7-8pm/
END:VEVENT
BEGIN:VEVENT
DTSTART;TZID=America/New_York:20251218T190000
DTEND;TZID=America/New_York:20251218T203000
DTSTAMP:20260423T161300
CREATED:20241209T180927Z
LAST-MODIFIED:20241223T161334Z
UID:1979-1766084400-1766089800@www.blfga.org
SUMMARY:Monthly Meeting
DESCRIPTION:At the Clubhouse
URL:https://www.blfga.org/event/monthly-meeting-13/
END:VEVENT
BEGIN:VEVENT
DTSTART;TZID=America/New_York:20251214T080000
DTEND;TZID=America/New_York:20251214T120000
DTSTAMP:20260423T161300
CREATED:20251112T130550Z
LAST-MODIFIED:20251112T130744Z
UID:3091-1765699200-1765713600@www.blfga.org
SUMMARY:BLFGA Indoor 3D Archery Shoot
DESCRIPTION:BLFGA Indoor 3D Archery ShootDecember 14\, 2025Registration – 8am to Noon \n\n\n\nAdults – $20\, Youth (17 to 9)- $10\, Under 9 – Free \n\n\n\n20 Yards max distance\, 20 targetsFormat will be a random score card draw for partners\, highest combined score for the day wins the tournament. Under 9 will not be a part of the draw for scores. \n\n\n\nSpectators are welcome. There will be food and drinks available for purchase. \n\n\n\nContact: Judd Reed 315-778-7247 with questions
URL:https://www.blfga.org/event/blfga-indoor-3d-archery-shoot/
CATEGORIES:Featured
END:VEVENT
BEGIN:VEVENT
DTSTART;TZID=America/New_York:20251120T190000
DTEND;TZID=America/New_York:20251120T203000
DTSTAMP:20260423T161300
CREATED:20241209T180905Z
LAST-MODIFIED:20251112T134053Z
UID:1977-1763665200-1763670600@www.blfga.org
SUMMARY:Monthly Meeting & Election of Officers
DESCRIPTION:At the Clubhouse
URL:https://www.blfga.org/event/monthly-meeting-12/
END:VEVENT
BEGIN:VEVENT
DTSTART;TZID=America/New_York:20251120T180000
DTEND;TZID=America/New_York:20251120T190000
DTSTAMP:20260423T161300
CREATED:20251112T133308Z
LAST-MODIFIED:20251112T133312Z
UID:3094-1763661600-1763665200@www.blfga.org
SUMMARY:Membersgiving Dinner
DESCRIPTION:Join the BLFGA for their “Membersgiving” Dinner on Thursday\, November 20th @ 6pm. This free dinner is for BLFGA members and (1) guest. Menu will be Pork Tenderloin\, Roasted Potatoes\, Vegetable and Dessert prepared by Chef Scotty & crew. \n\n\n\nCelebrate friendship\, food and thankfulness at dinner and feel free to stay for our Monthly Meeting & Election of Officers that starts at 7pm. \n\n\n\nPLEASE RSVP by Saturday\, November  so we can plan for enough food. RSVP via email – club@blfga.org or comment on this event. \n\n\n\nWe look forward to seeing you on November 20th!
URL:https://www.blfga.org/event/membersgiving-dinner/
CATEGORIES:Featured
END:VEVENT
BEGIN:VEVENT
DTSTART;TZID=America/New_York:20251115T080000
DTEND;TZID=America/New_York:20251116T170000
DTSTAMP:20260423T161300
CREATED:20250819T123908Z
LAST-MODIFIED:20250819T123914Z
UID:2976-1763193600-1763312400@www.blfga.org
SUMMARY:18-Hr Carry Conceal Class
DESCRIPTION:18-Hr Carry Conceal Class (8am – 5pm) on Saturday\, November 15th and Sunday\, November 16th @ the BLFGA \n\n\n\nClasses by Judd Reed @ Straight Line Training \n\n\n\nText\, Call or Email Judd Redd to reserve your spot \n\n\n\n315-778-7247 \n\n\n\nstraightlinetraining68@gmail.com \n\n\n\nClass fee is $200 for BLFGA members. You must become a member to take the class which is an additional\, separate $50 (total cost $250) \n\n\n\nClass limit is 20 students
URL:https://www.blfga.org/event/18-hr-carry-conceal-class-3/
END:VEVENT
BEGIN:VEVENT
DTSTART;TZID=America/New_York:20251109T120000
DTEND;TZID=America/New_York:20251109T120000
DTSTAMP:20260423T161300
CREATED:20250929T153643Z
LAST-MODIFIED:20250929T185043Z
UID:3052-1762689600-1762689600@www.blfga.org
SUMMARY:Heuvelton Trap Team - Thanksgiving Raffle
DESCRIPTION:Thanksgiving Raffle – complete turkey dinner raffle just in time for Thanksgiving. Contact a Heuvelton Trap Team member or coach to purchase your tickets!! Drawing held November 9th.
URL:https://www.blfga.org/event/heuvelton-trap-team-thanksgiving-raffle/
CATEGORIES:Featured
END:VEVENT
BEGIN:VEVENT
DTSTART;TZID=America/New_York:20251025T080000
DTEND;TZID=America/New_York:20251026T170000
DTSTAMP:20260423T161300
CREATED:20250819T123745Z
LAST-MODIFIED:20250819T123749Z
UID:2974-1761379200-1761498000@www.blfga.org
SUMMARY:18-Hr Carry Conceal Class
DESCRIPTION:18-Hr Carry Conceal Class (8am – 5pm) on Saturday\, October 25th and Sunday\, October 26th @ the BLFGA \n\n\n\nClasses by Judd Reed @ Straight Line Training \n\n\n\nText\, Call or Email Judd Redd to reserve your spot \n\n\n\n315-778-7247 \n\n\n\nstraightlinetraining68@gmail.com \n\n\n\nClass fee is $200 for BLFGA members. You must become a member to take the class which is an additional\, separate $50 (total cost $250) \n\n\n\nClass limit is 20 students
URL:https://www.blfga.org/event/18-hr-carry-conceal-class-2/
END:VEVENT
BEGIN:VEVENT
DTSTART;TZID=America/New_York:20251018T080000
DTEND;TZID=America/New_York:20251018T110000
DTSTAMP:20260423T161300
CREATED:20250929T151617Z
LAST-MODIFIED:20250929T151622Z
UID:3045-1760774400-1760785200@www.blfga.org
SUMMARY:All You Can Eat Breakfast to benefit MCS Trap Team
DESCRIPTION:Join the Morristown Trap Team for an All You Can Eat Breakfast Fundraiser at the BLFGA!! \n\n\n\nSaturday\, October 18th – 8am-11am \n\n\n\nAdults $12; Kids 10 and under $5; Kids 3 and under are free \n\n\n\nThe parents are cooking up a delicious spread of Pancakes\, French Toast\, Scrambled Eggs\, Eggs Made to Order\, Sausage\, Bacon\, Homemade Hashbrowns\, Coffee & Juice!  And the Fall 2025 Trap Team members will be serving you buffet style.  \n\n\n\nCome out and support the Morristown Trap Team!! \n\n\n\nWe will also have a 50/50 raffle.
URL:https://www.blfga.org/event/all-you-can-eat-breakfast-to-benefit-mcs-trap-team-2/
CATEGORIES:Featured
END:VEVENT
BEGIN:VEVENT
DTSTART;TZID=America/New_York:20251016T190000
DTEND;TZID=America/New_York:20251016T203000
DTSTAMP:20260423T161300
CREATED:20241209T180847Z
LAST-MODIFIED:20241223T161434Z
UID:1975-1760641200-1760646600@www.blfga.org
SUMMARY:Monthly Meeting
DESCRIPTION:At the Clubhouse
URL:https://www.blfga.org/event/monthly-meeting-11/
END:VEVENT
BEGIN:VEVENT
DTSTART;TZID=America/New_York:20250927T080000
DTEND;TZID=America/New_York:20250928T170000
DTSTAMP:20260423T161300
CREATED:20250819T123513Z
LAST-MODIFIED:20250819T123518Z
UID:2971-1758960000-1759078800@www.blfga.org
SUMMARY:18-Hr Carry Conceal Class
DESCRIPTION:18-Hr Carry Conceal Class (8am – 5pm) on Saturday\, September 27th and Sunday\, September 28th @ the BLFGA \n\n\n\nClasses by Judd Reed @ Straight Line Training \n\n\n\nText\, Call or Email Judd Redd to reserve your spot \n\n\n\n315-778-7247 \n\n\n\nstraightlinetraining68@gmail.com \n\n\n\nClass fee is $200 for BLFGA members. You must become a member to take the class which is an additional\, separate $50 (total cost $250) \n\n\n\nClass limit is 20 students
URL:https://www.blfga.org/event/18-hr-carry-conceal-class/
END:VEVENT
BEGIN:VEVENT
DTSTART;TZID=America/New_York:20250920T080000
DTEND;TZID=America/New_York:20250920T170000
DTSTAMP:20260423T161300
CREATED:20250910T123225Z
LAST-MODIFIED:20250910T123229Z
UID:3014-1758355200-1758387600@www.blfga.org
SUMMARY:Bowhunter Safety Course @ the BLFGA
DESCRIPTION:The NYS Bowhunter Education course is required for hunters who use a bow or crossbow to hunt deer or bear. While this course is not required for using a bow or crossbow to hunt small game or turkey\, DEC encourages you to take this course to learn bow and tree stand safety techniques \n\n\n\nNOTE All courses require the completion of homework prior to attending the course. If you do not complete the homework you cannot complete the course.  Manuals with homework sheet will be available at the club in a clear tot on the front deck or on line. If you do the online class use the free choice option. \n\n\n\nIMPORTANT MINIMUM AGE FOR COURSE: 11 YEARS (Minimum age for a license is 12 years). \n\n\n\nSign up online https://www.register-ed.com/events/view/234337
URL:https://www.blfga.org/event/bowhunter-safety-course-the-blfga/
CATEGORIES:Featured
END:VEVENT
BEGIN:VEVENT
DTSTART;TZID=America/New_York:20250919T170000
DTEND;TZID=America/New_York:20250919T200000
DTSTAMP:20260423T161300
CREATED:20250702T123545Z
LAST-MODIFIED:20250702T123548Z
UID:2889-1758301200-1758312000@www.blfga.org
SUMMARY:Steel Challenge
DESCRIPTION:3rd Friday of the every month starting in May (5/16) going until October.5pm – done or dark! ~ $10/per person; must be a member of the BLFGA! \n\n\n\nNot sure what Steel Challenge is?….Steel Challenge is a speed shooting competition that involves shooting arrays of steel targets while timed. Our set has plates for Showdown\, Smoke & Hope\, Outer Limits\, Speed Option\, The Pendulum\, 5 to Go\, Roundabout and Accelerator so whatever stages Judd Reed decides to set up that night is what you’ll shoot! Each stage has set number of steel plate targets of various sizes set at different distances. There is a designated “stop plate” which must be shot last in sequence on the stage. \n\n\n\nYou don’t have to be a pro to shoot\, just come try it out and have fun! \n\n\n\n**Pistol calibers only\, NO MAGNUMS\, .22 rimfire rifles are acceptable** \n\n\n\nAny questions\, please contact Judd Reed @ 315-778-7247 \n\n\n\n**Memberships can be purchased online (www.blfga.org)\, at Echoes on the Lake or in person at the club*
URL:https://www.blfga.org/event/steel-challenge-3/
END:VEVENT
BEGIN:VEVENT
DTSTART;TZID=America/New_York:20250918T190000
DTEND;TZID=America/New_York:20250918T190000
DTSTAMP:20260423T161300
CREATED:20241209T180829Z
LAST-MODIFIED:20250219T014549Z
UID:1973-1758222000-1758222000@www.blfga.org
SUMMARY:Monthly Meeting
DESCRIPTION:At the Clubhouse
URL:https://www.blfga.org/event/monthly-meeting-10/
END:VEVENT
BEGIN:VEVENT
DTSTART;TZID=America/New_York:20250913T090000
DTEND;TZID=America/New_York:20250913T150000
DTSTAMP:20260423T161300
CREATED:20250818T120836Z
LAST-MODIFIED:20250818T125009Z
UID:2932-1757754000-1757775600@www.blfga.org
SUMMARY:BLFGA Fall Outdoor Show\, Swap Meet\, Craft/Vendor Fair & 50 Bird Shoot
DESCRIPTION: BLFGA Fall Hunting & Fishing Outdoors Sports Show\, Swap Meet & Craft/Vendor Fair!  \n\n\n\nJoin us for a day of family fun at the Black Lake Fish & Game Association\, Inc.!! Pick up some gear for the upcoming hunting season\, get those lures & gear for catching the big one\, get your Christmas shopping started early at our local crafter/vendors\, eat some great food\, and buy a raffle or 2!! \n\n\n\n Date: Saturday\, September 13\, 2025 Time: 9:00 AM – 3:00 PM Location: Black Lake Fish & Game Association\, Inc.1 Gilmour Rd.\, Ogdensburg\, NY 13669 (corner of State Route 58 & Gilmour Rd) \n\n\n\n Admission: $5 General Admission $3 for BLFGA Members Kids under 16: FREE \n\n\n\n What’s Happening? Hunting & Fishing Sales & Swap Meet Craft & Vendor Booths Raffles & 50/50 50 Bird Trap Shoot (see event details here) Activities for Kids Concessions available all day @ the “Oasis II” And much more! \n\n\n\nThere’s something for everyone\, so come check it out\, find great deals\, and support the BLFGA!!
URL:https://www.blfga.org/event/blfga-fall-outdoor-show-swap-meet-craft-vendor-fair-50-bird-shoot/
CATEGORIES:Featured
ATTACH;FMTTYPE=image/jpeg:https://www.blfga.org/wp-content/uploads/2025/08/BLFGA-Swap-Meet-9-13-25-scaled.jpg
END:VEVENT
BEGIN:VEVENT
DTSTART;TZID=America/New_York:20250913T090000
DTEND;TZID=America/New_York:20250913T130000
DTSTAMP:20260423T161300
CREATED:20250818T121817Z
LAST-MODIFIED:20250818T121820Z
UID:2936-1757754000-1757768400@www.blfga.org
SUMMARY:BLFGA Fall 50 Bird Shoot
DESCRIPTION:50 Bird Trap Shoot @ the BLFGA \n\n\n\n Date: Saturday\, September 13\, 2025 Time: 9:00 AM – 1:00 PM (last sign up @ 12:30pm) Location: Black Lake Fish & Game Association\, Inc.1 Gilmour Rd.\, Ogdensburg\, NY 13669 (corner of State Route 58 & Gilmour Rd) \n\n\n\n Cost: Adults $25 Juniors (age 12-17) $20 Optional Lewis Class $10 \n\n\n\n Prizes: Cash Prizes paid for each class (Tie for Classes – 25 = shoot off; otherwise reverse run score will be used) $100 Top Gun (Tie for Top Gun = shoot off) \n\n\n\n Other Events Happening on 9/13 @ the BLFGA…. Hunting & Fishing Sales & Swap Meet Craft & Vendor Booths Raffles & 50/50 Activities for Kids Concessions available all day @ the “Oasis II” And much more! \n\n\n\n**Free admission to Swap Meet at the Al & Illeane Ames Youth Outdoor Education Center @ the BLFGA with paid 50 Bird Shoot registration** \n\n\n\nhttps://www.facebook.com/events/1034739282064974
URL:https://www.blfga.org/event/blfga-fall-50-bird-shoot/
CATEGORIES:Featured
ATTACH;FMTTYPE=image/jpeg:https://www.blfga.org/wp-content/uploads/2025/08/BLFGA-50-Bird-Shoot-9-13-25-scaled.jpg
END:VEVENT
BEGIN:VEVENT
DTSTART;TZID=America/New_York:20250906T080000
DTEND;TZID=America/New_York:20250906T120000
DTSTAMP:20260423T161300
CREATED:20250818T122312Z
LAST-MODIFIED:20250818T125239Z
UID:2939-1757145600-1757160000@www.blfga.org
SUMMARY:BLFGA Fall 3D Archery Shoot ~ Saturday\, September 6th  8am-12pm
DESCRIPTION:Black Lake Fish & Game Assoc.\, Inc. 3-D Archery Shoot to benefit our Youth Archery Program!! \n\n\n\nSaturday\, September 6thRegistration 8am – 12pm \n\n\n\nModified version of IBO for classifications30+ TargetsCash prizes for top in each class \n\n\n\nEntry Fee:Adults – $20Kids (9-17) – $108 and under are FREE \n\n\n\nEnjoy a day of 3D archery\, 50/50 raffle & more \n\n\n\nCourse is located at 8 Rastley Rd – Gouverneur\, NY (NOTE: this not at the Black Lake Fish & Game Assoc.\, Inc.) \n\n\n\nContact Judd Reed @ (315) 778-7247 for more information
URL:https://www.blfga.org/event/blfga-fall-3d-archery-shoot-saturday-september-6th-8am-12pm/
CATEGORIES:Featured
ATTACH;FMTTYPE=image/jpeg:https://www.blfga.org/wp-content/uploads/2025/08/Fall-2025-3D-Archery-Shoot.jpg
END:VEVENT
BEGIN:VEVENT
DTSTART;TZID=America/New_York:20250825T080000
DTEND;TZID=America/New_York:20250825T200000
DTSTAMP:20260423T161300
CREATED:20250702T124540Z
LAST-MODIFIED:20250702T124550Z
UID:2905-1756108800-1756152000@www.blfga.org
SUMMARY:3D Archery League
DESCRIPTION:Starting July 7th we will be having a 3D Archery League every Mondaythrough August 25th (8 weeks). The gate to the range will be open onMondays from daylight to dark. The range is on Private Property (8 RastleyRd – Gouverneur\, NY 13642) and is covered by the Club. It is NOT a Publicrange available anytime other than Mondays. The rules for the league willbe posted on the BLFGA website and Facebook page. The cost to shoot theleague each Monday will be $10 for adults 18+ and $5 for kids 17 and under.It will be a 20 target course and be a shorter walk than the 3D shoot set upso it will be very kid friendly!! Contact Judd Reed (315-778-7247) with anyquestions or email the BLFGA (club@blfga.org).
URL:https://www.blfga.org/event/3d-archery-league-8/
END:VEVENT
BEGIN:VEVENT
DTSTART;TZID=America/New_York:20250823T080000
DTEND;TZID=America/New_York:20250823T170000
DTSTAMP:20260423T161300
CREATED:20250812T134425Z
LAST-MODIFIED:20250812T134451Z
UID:2928-1755936000-1755968400@www.blfga.org
SUMMARY:Hunter Safety Course @ the BLFGA
DESCRIPTION:Hunter Education is required for all hunting licenses. This course covers firearms safety\, hunting techniques and responsible\, ethical hunting practices. \n\n\n\nNOTE All courses require the completion of homework prior to attending the course. If you do not complete the homework you cannot complete the course.  Manuals with homework sheet will be available at the club in a clear tot on the front deck or on line. If you do the online class use the free choice option. \n\n\n\nIMPORTANT MINIMUM AGE FOR COURSE: 11 YEARS (Minimum age for a license is 12 years). \n\n\n\nContact Lawrence Kring @ 315-323-2107 or kring630@twcny.rr.com to sign \n\n\n\nup or sign up online https://www.register-ed.com/events/view/232942.
URL:https://www.blfga.org/event/hunter-safety-course-the-blfga/
CATEGORIES:Featured
END:VEVENT
BEGIN:VEVENT
DTSTART;TZID=America/New_York:20250821T190000
DTEND;TZID=America/New_York:20250821T190000
DTSTAMP:20260423T161300
CREATED:20241209T180813Z
LAST-MODIFIED:20250219T014519Z
UID:1971-1755802800-1755802800@www.blfga.org
SUMMARY:Monthly Meeting
DESCRIPTION:At the Clubhouse
URL:https://www.blfga.org/event/monthly-meeting-9/
END:VEVENT
BEGIN:VEVENT
DTSTART;TZID=America/New_York:20250818T080000
DTEND;TZID=America/New_York:20250818T200000
DTSTAMP:20260423T161300
CREATED:20250702T124434Z
LAST-MODIFIED:20250702T124438Z
UID:2903-1755504000-1755547200@www.blfga.org
SUMMARY:3D Archery League
DESCRIPTION:Starting July 7th we will be having a 3D Archery League every Mondaythrough August 25th (8 weeks). The gate to the range will be open onMondays from daylight to dark. The range is on Private Property (8 RastleyRd – Gouverneur\, NY 13642) and is covered by the Club. It is NOT a Publicrange available anytime other than Mondays. The rules for the league willbe posted on the BLFGA website and Facebook page. The cost to shoot theleague each Monday will be $10 for adults 18+ and $5 for kids 17 and under.It will be a 20 target course and be a shorter walk than the 3D shoot set upso it will be very kid friendly!! Contact Judd Reed (315-778-7247) with anyquestions or email the BLFGA (club@blfga.org).
URL:https://www.blfga.org/event/3d-archery-league-7/
END:VEVENT
BEGIN:VEVENT
DTSTART;TZID=America/New_York:20250815T170000
DTEND;TZID=America/New_York:20250815T200000
DTSTAMP:20260423T161300
CREATED:20250702T123316Z
LAST-MODIFIED:20250702T123319Z
UID:2886-1755277200-1755288000@www.blfga.org
SUMMARY:Steel Challenge
DESCRIPTION:3rd Friday of the every month starting in May (5/16) going until October.5pm – done or dark! ~ $10/per person; must be a member of the BLFGA! \n\n\n\nNot sure what Steel Challenge is?….Steel Challenge is a speed shooting competition that involves shooting arrays of steel targets while timed. Our set has plates for Showdown\, Smoke & Hope\, Outer Limits\, Speed Option\, The Pendulum\, 5 to Go\, Roundabout and Accelerator so whatever stages Judd Reed decides to set up that night is what you’ll shoot! Each stage has set number of steel plate targets of various sizes set at different distances. There is a designated “stop plate” which must be shot last in sequence on the stage. \n\n\n\nYou don’t have to be a pro to shoot\, just come try it out and have fun! \n\n\n\n**Pistol calibers only\, NO MAGNUMS\, .22 rimfire rifles are acceptable** \n\n\n\nAny questions\, please contact Judd Reed @ 315-778-7247 \n\n\n\n**Memberships can be purchased online (www.blfga.org)\, at Echoes on the Lake or in person at the club*
URL:https://www.blfga.org/event/steel-challenge-2/
END:VEVENT
BEGIN:VEVENT
DTSTART;TZID=America/New_York:20250811T080000
DTEND;TZID=America/New_York:20250811T200000
DTSTAMP:20260423T161300
CREATED:20250702T124332Z
LAST-MODIFIED:20250702T124335Z
UID:2901-1754899200-1754942400@www.blfga.org
SUMMARY:3D Archery League
DESCRIPTION:Starting July 7th we will be having a 3D Archery League every Mondaythrough August 25th (8 weeks). The gate to the range will be open onMondays from daylight to dark. The range is on Private Property (8 RastleyRd – Gouverneur\, NY 13642) and is covered by the Club. It is NOT a Publicrange available anytime other than Mondays. The rules for the league willbe posted on the BLFGA website and Facebook page. The cost to shoot theleague each Monday will be $10 for adults 18+ and $5 for kids 17 and under.It will be a 20 target course and be a shorter walk than the 3D shoot set upso it will be very kid friendly!! Contact Judd Reed (315-778-7247) with anyquestions or email the BLFGA (club@blfga.org).
URL:https://www.blfga.org/event/3d-archery-league-6/
END:VEVENT
BEGIN:VEVENT
DTSTART;TZID=America/New_York:20250804T080000
DTEND;TZID=America/New_York:20250804T200000
DTSTAMP:20260423T161300
CREATED:20250702T124235Z
LAST-MODIFIED:20250702T124237Z
UID:2899-1754294400-1754337600@www.blfga.org
SUMMARY:3D Archery League
DESCRIPTION:Starting July 7th we will be having a 3D Archery League every Mondaythrough August 25th (8 weeks). The gate to the range will be open onMondays from daylight to dark. The range is on Private Property (8 RastleyRd – Gouverneur\, NY 13642) and is covered by the Club. It is NOT a Publicrange available anytime other than Mondays. The rules for the league willbe posted on the BLFGA website and Facebook page. The cost to shoot theleague each Monday will be $10 for adults 18+ and $5 for kids 17 and under.It will be a 20 target course and be a shorter walk than the 3D shoot set upso it will be very kid friendly!! Contact Judd Reed (315-778-7247) with anyquestions or email the BLFGA (club@blfga.org).
URL:https://www.blfga.org/event/3d-archery-league-5/
END:VEVENT
BEGIN:VEVENT
DTSTART;TZID=America/New_York:20250728T080000
DTEND;TZID=America/New_York:20250728T200000
DTSTAMP:20260423T161300
CREATED:20250702T124146Z
LAST-MODIFIED:20250702T124150Z
UID:2897-1753689600-1753732800@www.blfga.org
SUMMARY:3D Archery League
DESCRIPTION:Starting July 7th we will be having a 3D Archery League every Mondaythrough August 25th (8 weeks). The gate to the range will be open onMondays from daylight to dark. The range is on Private Property (8 RastleyRd – Gouverneur\, NY 13642) and is covered by the Club. It is NOT a Publicrange available anytime other than Mondays. The rules for the league willbe posted on the BLFGA website and Facebook page. The cost to shoot theleague each Monday will be $10 for adults 18+ and $5 for kids 17 and under.It will be a 20 target course and be a shorter walk than the 3D shoot set upso it will be very kid friendly!! Contact Judd Reed (315-778-7247) with anyquestions or email the BLFGA (club@blfga.org).
URL:https://www.blfga.org/event/3d-archery-league-4/
END:VEVENT
BEGIN:VEVENT
DTSTART;TZID=America/New_York:20250721T080000
DTEND;TZID=America/New_York:20250721T200000
DTSTAMP:20260423T161300
CREATED:20250702T124045Z
LAST-MODIFIED:20250702T124048Z
UID:2895-1753084800-1753128000@www.blfga.org
SUMMARY:3D Archery League
DESCRIPTION:Starting July 7th we will be having a 3D Archery League every Mondaythrough August 25th (8 weeks). The gate to the range will be open onMondays from daylight to dark. The range is on Private Property (8 RastleyRd – Gouverneur\, NY 13642) and is covered by the Club. It is NOT a Publicrange available anytime other than Mondays. The rules for the league willbe posted on the BLFGA website and Facebook page. The cost to shoot theleague each Monday will be $10 for adults 18+ and $5 for kids 17 and under.It will be a 20 target course and be a shorter walk than the 3D shoot set upso it will be very kid friendly!! Contact Judd Reed (315-778-7247) with anyquestions or email the BLFGA (club@blfga.org).
URL:https://www.blfga.org/event/3d-archery-league-3/
END:VEVENT
BEGIN:VEVENT
DTSTART;TZID=America/New_York:20250719T080000
DTEND;TZID=America/New_York:20250720T170000
DTSTAMP:20260423T161300
CREATED:20250414T175237Z
LAST-MODIFIED:20250414T175239Z
UID:2680-1752912000-1753030800@www.blfga.org
SUMMARY:18-Hr Pistol Permit Class
DESCRIPTION:18-Hr Pistol Permit Class (8am – 5pm) on Saturday\, July 19th and Sunday\, July 20th @ the BLFGA \n\n\n\nClasses by Judd Reed @ Straight Line Training \n\n\n\nText\, Call or Email Judd Redd to reserve your spot  \n\n\n\n315-778-7247 \n\n\n\nstraightlinetraining68@gmail.com \n\n\n\n$250 (Non-Members of the BLFGA) \n\n\n\n$200 (Members of the BLFGA)
URL:https://www.blfga.org/event/18-hr-pistol-permit-class-4/
END:VEVENT
BEGIN:VEVENT
DTSTART;TZID=America/New_York:20250718T170000
DTEND;TZID=America/New_York:20250718T200000
DTSTAMP:20260423T161300
CREATED:20250702T123003Z
LAST-MODIFIED:20250702T123434Z
UID:2884-1752858000-1752868800@www.blfga.org
SUMMARY:Steel Challenge
DESCRIPTION:3rd Friday of the every month starting in May (5/16) going until October.5pm – done or dark! ~ $10/per person; must be a member of the BLFGA! \n\n\n\nNot sure what Steel Challenge is?….Steel Challenge is a speed shooting competition that involves shooting arrays of steel targets while timed. Our set has plates for Showdown\, Smoke & Hope\, Outer Limits\, Speed Option\, The Pendulum\, 5 to Go\, Roundabout and Accelerator so whatever stages Judd Reed decides to set up that night is what you’ll shoot! Each stage has set number of steel plate targets of various sizes set at different distances. There is a designated “stop plate” which must be shot last in sequence on the stage. \n\n\n\nYou don’t have to be a pro to shoot\, just come try it out and have fun! \n\n\n\n**Pistol calibers only\, NO MAGNUMS\, .22 rimfire rifles are acceptable** \n\n\n\nAny questions\, please contact Judd Reed @ 315-778-7247 \n\n\n\n**Memberships can be purchased online (www.blfga.org)\, at Echoes on the Lake or in person at the club*
URL:https://www.blfga.org/event/steel-challenge/
END:VEVENT
BEGIN:VEVENT
DTSTART;TZID=America/New_York:20250717T190000
DTEND;TZID=America/New_York:20250717T190000
DTSTAMP:20260423T161300
CREATED:20241209T180755Z
LAST-MODIFIED:20250219T014429Z
UID:1969-1752778800-1752778800@www.blfga.org
SUMMARY:Monthly Meeting
DESCRIPTION:At the Clubhouse
URL:https://www.blfga.org/event/monthly-meeting-8/
END:VEVENT
BEGIN:VEVENT
DTSTART;TZID=America/New_York:20250714T080000
DTEND;TZID=America/New_York:20250714T200000
DTSTAMP:20260423T161300
CREATED:20250702T123939Z
LAST-MODIFIED:20250702T123942Z
UID:2893-1752480000-1752523200@www.blfga.org
SUMMARY:3D Archery League
DESCRIPTION:Starting July 7th we will be having a 3D Archery League every Mondaythrough August 25th (8 weeks). The gate to the range will be open onMondays from daylight to dark. The range is on Private Property (8 RastleyRd – Gouverneur\, NY 13642) and is covered by the Club. It is NOT a Publicrange available anytime other than Mondays. The rules for the league willbe posted on the BLFGA website and Facebook page. The cost to shoot theleague each Monday will be $10 for adults 18+ and $5 for kids 17 and under.It will be a 20 target course and be a shorter walk than the 3D shoot set upso it will be very kid friendly!! Contact Judd Reed (315-778-7247) with anyquestions or email the BLFGA (club@blfga.org).
URL:https://www.blfga.org/event/3d-archery-league-2/
END:VEVENT
END:VCALENDAR