BEGIN:VCALENDAR
VERSION:2.0
PRODID:-//Black Lake Fish &amp; Game Association - ECPv6.15.20//NONSGML v1.0//EN
CALSCALE:GREGORIAN
METHOD:PUBLISH
X-WR-CALNAME:Black Lake Fish &amp; Game Association
X-ORIGINAL-URL:https://www.blfga.org
X-WR-CALDESC:Events for Black Lake Fish &amp; Game Association
REFRESH-INTERVAL;VALUE=DURATION:PT1H
X-Robots-Tag:noindex
X-PUBLISHED-TTL:PT1H
BEGIN:VTIMEZONE
TZID:America/New_York
BEGIN:DAYLIGHT
TZOFFSETFROM:-0500
TZOFFSETTO:-0400
TZNAME:EDT
DTSTART:20250309T070000
END:DAYLIGHT
BEGIN:STANDARD
TZOFFSETFROM:-0400
TZOFFSETTO:-0500
TZNAME:EST
DTSTART:20251102T060000
END:STANDARD
BEGIN:DAYLIGHT
TZOFFSETFROM:-0500
TZOFFSETTO:-0400
TZNAME:EDT
DTSTART:20260308T070000
END:DAYLIGHT
BEGIN:STANDARD
TZOFFSETFROM:-0400
TZOFFSETTO:-0500
TZNAME:EST
DTSTART:20261101T060000
END:STANDARD
BEGIN:DAYLIGHT
TZOFFSETFROM:-0500
TZOFFSETTO:-0400
TZNAME:EDT
DTSTART:20270314T070000
END:DAYLIGHT
BEGIN:STANDARD
TZOFFSETFROM:-0400
TZOFFSETTO:-0500
TZNAME:EST
DTSTART:20271107T060000
END:STANDARD
END:VTIMEZONE
BEGIN:VEVENT
DTSTART;TZID=America/New_York:20260606T080000
DTEND;TZID=America/New_York:20260607T170000
DTSTAMP:20260423T170638
CREATED:20260401T132226Z
LAST-MODIFIED:20260401T132230Z
UID:3379-1780732800-1780851600@www.blfga.org
SUMMARY:18-Hr Carry Conceal Class
DESCRIPTION:18-Hr Carry Conceal Class (8am – 5pm) on Saturday\, June 6th and Sunday\, June 7th @ the BLFGA \n\n\n\nClasses by Judd Reed @ Straight Line Training \n\n\n\nText\, Call or Email Judd Redd to reserve your spot \n\n\n\n315-778-7247 \n\n\n\nstraightlinetraining68@gmail.com \n\n\n\nClass fee:  $200 for current BLFGA members\, $250 for course & 2026 BLFGA membership\, $225 for course & range fee
URL:https://www.blfga.org/event/18-hr-carry-conceal-class-5/
END:VEVENT
BEGIN:VEVENT
DTSTART;TZID=America/New_York:20260613T090000
DTEND;TZID=America/New_York:20260613T150000
DTSTAMP:20260423T170638
CREATED:20260217T133845Z
LAST-MODIFIED:20260217T133849Z
UID:3358-1781341200-1781362800@www.blfga.org
SUMMARY:To The Top Trap Competition/Fun Shoot to Support Warren Briggs Team USA Luge
DESCRIPTION:Come Support Warren Briggs – Team USA Luge with a trap shoot competition hosted by the Black Lake Fish and Game Club! \n\n\n\nAll participants will be entered into raffles for prizes worth thousands of dollars!
URL:https://www.blfga.org/event/to-the-top-trap-competition-fun-shoot-to-support-warren-briggs-team-usa-luge/
END:VEVENT
BEGIN:VEVENT
DTSTART;TZID=America/New_York:20260618T190000
DTEND;TZID=America/New_York:20260618T203000
DTSTAMP:20260423T170638
CREATED:20260217T132841Z
LAST-MODIFIED:20260217T132844Z
UID:3352-1781809200-1781814600@www.blfga.org
SUMMARY:Monthly Meeting
DESCRIPTION:Monthly Meeting – Clubhouse
URL:https://www.blfga.org/event/monthly-meeting-18/
END:VEVENT
END:VCALENDAR