BEGIN:VCALENDAR
VERSION:2.0
PRODID:-//Black Lake Fish &amp; Game Association - ECPv6.15.20//NONSGML v1.0//EN
CALSCALE:GREGORIAN
METHOD:PUBLISH
X-WR-CALNAME:Black Lake Fish &amp; Game Association
X-ORIGINAL-URL:https://www.blfga.org
X-WR-CALDESC:Events for Black Lake Fish &amp; Game Association
REFRESH-INTERVAL;VALUE=DURATION:PT1H
X-Robots-Tag:noindex
X-PUBLISHED-TTL:PT1H
BEGIN:VTIMEZONE
TZID:America/New_York
BEGIN:DAYLIGHT
TZOFFSETFROM:-0500
TZOFFSETTO:-0400
TZNAME:EDT
DTSTART:20250309T070000
END:DAYLIGHT
BEGIN:STANDARD
TZOFFSETFROM:-0400
TZOFFSETTO:-0500
TZNAME:EST
DTSTART:20251102T060000
END:STANDARD
BEGIN:DAYLIGHT
TZOFFSETFROM:-0500
TZOFFSETTO:-0400
TZNAME:EDT
DTSTART:20260308T070000
END:DAYLIGHT
BEGIN:STANDARD
TZOFFSETFROM:-0400
TZOFFSETTO:-0500
TZNAME:EST
DTSTART:20261101T060000
END:STANDARD
BEGIN:DAYLIGHT
TZOFFSETFROM:-0500
TZOFFSETTO:-0400
TZNAME:EDT
DTSTART:20270314T070000
END:DAYLIGHT
BEGIN:STANDARD
TZOFFSETFROM:-0400
TZOFFSETTO:-0500
TZNAME:EST
DTSTART:20271107T060000
END:STANDARD
END:VTIMEZONE
BEGIN:VEVENT
DTSTART;TZID=America/New_York:20260105T180000
DTEND;TZID=America/New_York:20260105T200000
DTSTAMP:20260423T185943
CREATED:20260105T164408Z
LAST-MODIFIED:20260105T164411Z
UID:3225-1767636000-1767643200@www.blfga.org
SUMMARY:Youth Archery ~ Ages 6-9 6-7pm; Ages 10+ 7-8pm
DESCRIPTION:$5 Jr Membership to the BLFGA (good until 12/31/26) \n\n\n\n$5 weekly each Monday you attend
URL:https://www.blfga.org/event/youth-archery-ages-6-9-6-7pm-ages-10-7-8pm/
END:VEVENT
BEGIN:VEVENT
DTSTART;TZID=America/New_York:20260112T180000
DTEND;TZID=America/New_York:20260112T200000
DTSTAMP:20260423T185943
CREATED:20260105T164555Z
LAST-MODIFIED:20260105T164558Z
UID:3227-1768240800-1768248000@www.blfga.org
SUMMARY:Youth Archery ~ Ages 6-9 6-7pm; Ages 10+ 7-8pm
DESCRIPTION:$5 Jr Membership to the BLFGA (good until 12/31/26) \n\n\n\n$5 weekly each Monday you attend
URL:https://www.blfga.org/event/youth-archery-ages-6-9-6-7pm-ages-10-7-8pm-2/
END:VEVENT
BEGIN:VEVENT
DTSTART;TZID=America/New_York:20260119T180000
DTEND;TZID=America/New_York:20260119T200000
DTSTAMP:20260423T185943
CREATED:20260105T164822Z
LAST-MODIFIED:20260105T164827Z
UID:3229-1768845600-1768852800@www.blfga.org
SUMMARY:Youth Archery ~ Ages 6-9 6-7pm; Ages 10+ 7-8pm
DESCRIPTION:$5 Jr Membership to the BLFGA (good until 12/31/26) \n\n\n\n$5 weekly each Monday you attend
URL:https://www.blfga.org/event/youth-archery-ages-6-9-6-7pm-ages-10-7-8pm-3/
END:VEVENT
BEGIN:VEVENT
DTSTART;TZID=America/New_York:20260122T183000
DTEND;TZID=America/New_York:20260122T193000
DTSTAMP:20260423T185943
CREATED:20260115T181949Z
LAST-MODIFIED:20260115T181954Z
UID:3263-1769106600-1769110200@www.blfga.org
SUMMARY:Adult Archery
DESCRIPTION:A relaxed\, fun evening of open indoor archery!Crossbows are welcome for open archery. Can’t make it every Thursday night\, that’s okay – just attend whenever you can! \n\n\n\nMembership to the BLFGA is required!  Regular – $50; Couple – $70; Family – $100 \n\n\n\n$5 each week you attend
URL:https://www.blfga.org/event/adult-archery/
END:VEVENT
BEGIN:VEVENT
DTSTART;TZID=America/New_York:20260122T190000
DTEND;TZID=America/New_York:20260122T203000
DTSTAMP:20260423T185943
CREATED:20260115T181633Z
LAST-MODIFIED:20260115T181637Z
UID:3261-1769108400-1769113800@www.blfga.org
SUMMARY:Monthly Meeting - RESCHEDULED FROM 1/15/26
DESCRIPTION:At the Clubhouse
URL:https://www.blfga.org/event/monthly-meeting-rescheduled-from-1-15-26/
END:VEVENT
BEGIN:VEVENT
DTSTART;TZID=America/New_York:20260126T180000
DTEND;TZID=America/New_York:20260126T200000
DTSTAMP:20260423T185943
CREATED:20260105T164915Z
LAST-MODIFIED:20260105T164919Z
UID:3231-1769450400-1769457600@www.blfga.org
SUMMARY:Youth Archery ~ Ages 6-9 6-7pm; Ages 10+ 7-8pm
DESCRIPTION:$5 Jr Membership to the BLFGA (good until 12/31/26) \n\n\n\n$5 weekly each Monday you attend
URL:https://www.blfga.org/event/youth-archery-ages-6-9-6-7pm-ages-10-7-8pm-4/
END:VEVENT
BEGIN:VEVENT
DTSTART;TZID=America/New_York:20260129T183000
DTEND;TZID=America/New_York:20260129T193000
DTSTAMP:20260423T185943
CREATED:20260115T182213Z
LAST-MODIFIED:20260115T182218Z
UID:3266-1769711400-1769715000@www.blfga.org
SUMMARY:Adult Archery
DESCRIPTION:A relaxed\, fun evening of open indoor archery!Crossbows are welcome for open archery. Can’t make it every Thursday night\, that’s okay – just attend whenever you can! \n\n\n\nMembership to the BLFGA is required!  Regular – $50; Couple – $70; Family – $100 \n\n\n\n$5 each week you attend
URL:https://www.blfga.org/event/adult-archery-2/
END:VEVENT
BEGIN:VEVENT
DTSTART;TZID=America/New_York:20260131T063000
DTEND;TZID=America/New_York:20260131T223000
DTSTAMP:20260423T185943
CREATED:20260105T171103Z
LAST-MODIFIED:20260128T133129Z
UID:3236-1769841000-1769898600@www.blfga.org
SUMMARY:BLFGA Derby Day Breakfast
DESCRIPTION:Eat In (all you can eat) – $12  OR   Take Out – $10 (includes bacon\, sausage\, hashbrowns\, french toast OR pancake and scrambled eggs) \n\n\n\nBefore you head out on the ice to catch some fish\, swing by the BLFGA for a hot\, hearty breakfast — or just come join us for a great start to the day! \n\n\n\nWhether you’re gearing up for fishing or simply craving good food and good company\, we’ve got a seat waiting for you. \n\n\n\n🍳☕ Breakfast is better together. See you soon at the BLFGA!
URL:https://www.blfga.org/event/blfga-breakfast/
END:VEVENT
BEGIN:VEVENT
DTSTART;TZID=America/New_York:20260131T070000
DTEND;TZID=America/New_York:20260131T150000
DTSTAMP:20260423T185943
CREATED:20251112T134552Z
LAST-MODIFIED:20260106T143533Z
UID:3105-1769842800-1769871600@www.blfga.org
SUMMARY:Ice Fishing Derby
DESCRIPTION:
URL:https://www.blfga.org/event/ice-fishing-derby-2/
CATEGORIES:Featured
END:VEVENT
BEGIN:VEVENT
DTSTART;TZID=America/New_York:20260202T180000
DTEND;TZID=America/New_York:20260202T200000
DTSTAMP:20260423T185943
CREATED:20260128T133244Z
LAST-MODIFIED:20260128T133247Z
UID:3294-1770055200-1770062400@www.blfga.org
SUMMARY:Youth Archery ~ Ages 6-9 6-7pm; Ages 10+ 7-8pm
DESCRIPTION:$5 Jr Membership to the BLFGA (good until 12/31/26) \n\n\n\n$5 weekly each Monday you attend
URL:https://www.blfga.org/event/youth-archery-ages-6-9-6-7pm-ages-10-7-8pm-5/
END:VEVENT
BEGIN:VEVENT
DTSTART;TZID=America/New_York:20260205T183000
DTEND;TZID=America/New_York:20260205T193000
DTSTAMP:20260423T185943
CREATED:20260115T182520Z
LAST-MODIFIED:20260115T182524Z
UID:3268-1770316200-1770319800@www.blfga.org
SUMMARY:Adult Archery
DESCRIPTION:A relaxed\, fun evening of open indoor archery!Crossbows are welcome for open archery. Can’t make it every Thursday night\, that’s okay – just attend whenever you can! \n\n\n\nMembership to the BLFGA is required!  Regular – $50; Couple – $70; Family – $100 \n\n\n\n$5 each week you attend
URL:https://www.blfga.org/event/adult-archery-3/
END:VEVENT
BEGIN:VEVENT
DTSTART;TZID=America/New_York:20260209T180000
DTEND;TZID=America/New_York:20260209T200000
DTSTAMP:20260423T185943
CREATED:20260128T133337Z
LAST-MODIFIED:20260128T133340Z
UID:3296-1770660000-1770667200@www.blfga.org
SUMMARY:Youth Archery ~ Ages 6-9 6-7pm; Ages 10+ 7-8pm
DESCRIPTION:$5 Jr Membership to the BLFGA (good until 12/31/26) \n\n\n\n$5 weekly each Monday you attend
URL:https://www.blfga.org/event/youth-archery-ages-6-9-6-7pm-ages-10-7-8pm-6/
END:VEVENT
BEGIN:VEVENT
DTSTART;TZID=America/New_York:20260212T183000
DTEND;TZID=America/New_York:20260212T193000
DTSTAMP:20260423T185943
CREATED:20260128T133648Z
LAST-MODIFIED:20260128T133651Z
UID:3304-1770921000-1770924600@www.blfga.org
SUMMARY:Adult Archery
DESCRIPTION:A relaxed\, fun evening of open indoor archery!Crossbows are welcome for open archery. Can’t make it every Thursday night\, that’s okay – just attend whenever you can! \n\n\n\nMembership to the BLFGA is required!  Regular – $50; Couple – $70; Family – $100 \n\n\n\n$5 each week you attend
URL:https://www.blfga.org/event/adult-archery-4/
END:VEVENT
BEGIN:VEVENT
DTSTART;TZID=America/New_York:20260216T180000
DTEND;TZID=America/New_York:20260216T200000
DTSTAMP:20260423T185943
CREATED:20260128T133425Z
LAST-MODIFIED:20260216T201808Z
UID:3298-1771264800-1771272000@www.blfga.org
SUMMARY:Youth Archery CANCELLED TONIGHT
DESCRIPTION:
URL:https://www.blfga.org/event/youth-archery-ages-6-9-6-7pm-ages-10-7-8pm-7/
END:VEVENT
BEGIN:VEVENT
DTSTART;TZID=America/New_York:20260219T183000
DTEND;TZID=America/New_York:20260219T193000
DTSTAMP:20260423T185943
CREATED:20260128T133735Z
LAST-MODIFIED:20260128T133738Z
UID:3306-1771525800-1771529400@www.blfga.org
SUMMARY:Adult Archery
DESCRIPTION:A relaxed\, fun evening of open indoor archery!Crossbows are welcome for open archery. Can’t make it every Thursday night\, that’s okay – just attend whenever you can! \n\n\n\nMembership to the BLFGA is required!  Regular – $50; Couple – $70; Family – $100 \n\n\n\n$5 each week you attend
URL:https://www.blfga.org/event/adult-archery-5/
END:VEVENT
BEGIN:VEVENT
DTSTART;TZID=America/New_York:20260219T190000
DTEND;TZID=America/New_York:20260219T203000
DTSTAMP:20260423T185943
CREATED:20260217T132422Z
LAST-MODIFIED:20260217T132425Z
UID:3344-1771527600-1771533000@www.blfga.org
SUMMARY:Monthly Meeting
DESCRIPTION:At the Clubhouse
URL:https://www.blfga.org/event/monthly-meeting-14/
END:VEVENT
BEGIN:VEVENT
DTSTART;TZID=America/New_York:20260223T180000
DTEND;TZID=America/New_York:20260223T200000
DTSTAMP:20260423T185943
CREATED:20260128T133511Z
LAST-MODIFIED:20260128T133514Z
UID:3300-1771869600-1771876800@www.blfga.org
SUMMARY:Youth Archery ~ Ages 6-9 6-7pm; Ages 10+ 7-8pm
DESCRIPTION:$5 Jr Membership to the BLFGA (good until 12/31/26) \n\n\n\n$5 weekly each Monday you attend
URL:https://www.blfga.org/event/youth-archery-ages-6-9-6-7pm-ages-10-7-8pm-8/
END:VEVENT
BEGIN:VEVENT
DTSTART;TZID=America/New_York:20260226T183000
DTEND;TZID=America/New_York:20260226T193000
DTSTAMP:20260423T185943
CREATED:20260128T133825Z
LAST-MODIFIED:20260128T133828Z
UID:3308-1772130600-1772134200@www.blfga.org
SUMMARY:Adult Archery
DESCRIPTION:A relaxed\, fun evening of open indoor archery!Crossbows are welcome for open archery. Can’t make it every Thursday night\, that’s okay – just attend whenever you can! \n\n\n\nMembership to the BLFGA is required!  Regular – $50; Couple – $70; Family – $100 \n\n\n\n$5 each week you attend
URL:https://www.blfga.org/event/adult-archery-6/
END:VEVENT
BEGIN:VEVENT
DTSTART;TZID=America/New_York:20260302T180000
DTEND;TZID=America/New_York:20260302T200000
DTSTAMP:20260423T185943
CREATED:20260128T133558Z
LAST-MODIFIED:20260128T133601Z
UID:3302-1772474400-1772481600@www.blfga.org
SUMMARY:Youth Archery ~ Ages 6-9 6-7pm; Ages 10+ 7-8pm
DESCRIPTION:$5 Jr Membership to the BLFGA (good until 12/31/26) \n\n\n\n$5 weekly each Monday you attend
URL:https://www.blfga.org/event/youth-archery-ages-6-9-6-7pm-ages-10-7-8pm-9/
END:VEVENT
BEGIN:VEVENT
DTSTART;TZID=America/New_York:20260307T080000
DTEND;TZID=America/New_York:20260307T170000
DTSTAMP:20260423T185943
CREATED:20260213T172357Z
LAST-MODIFIED:20260213T172414Z
UID:3331-1772870400-1772902800@www.blfga.org
SUMMARY:Hunter Safety Course @ the BLFGA
DESCRIPTION:Hunter Education is required for all hunting licenses. This course covers firearms safety\, hunting techniques and responsible\, ethical hunting practices. \n\n\n\nNOTE All courses require the completion of homework prior to attending the course. If you do not complete the homework you cannot complete the course. Manuals with homework sheet will be available at the club in a clear tote on the front deck or on line. If you do the online class use the free choice option. \n\n\n\nIMPORTANT MINIMUM AGE FOR COURSE: 11 YEARS (Minimum age for a license is 12 years). \n\n\n\nContact Ralph Goodwin @ 518-578-8170 to sign up or sign up online https://www.register-ed.com/programs/new_york/165-new-york-hunter-education-course
URL:https://www.blfga.org/event/hunter-safety-course-the-blfga-2/
CATEGORIES:Featured
END:VEVENT
BEGIN:VEVENT
DTSTART;TZID=America/New_York:20260307T100000
DTEND;TZID=America/New_York:20260307T120000
DTSTAMP:20260423T185943
CREATED:20260213T172037Z
LAST-MODIFIED:20260213T172040Z
UID:3328-1772877600-1772884800@www.blfga.org
SUMMARY:Wood Duck Nesting Box Construction
DESCRIPTION:Bring the family and come help us build wood duck nest boxes! For a very large number of years now\, the BLFGA has constructed nest boxes. For the past few\, we have enlisted the help of kids and families in their construction\, and the St. Lawrence Waterfowlers and Jim Robinson (for many years) have assisted by donating the materials. Jim has the pieces all prepared for 65 boxes\, and if you come help put them together\, we’ll send each family home with one to be hung up where the wood ducks can use it. The remainder can be purchased from the BLFGA for $20 each! Bring a hammer along if you have one\, otherwise\, we’ve got a few already- and come join the fun! 
URL:https://www.blfga.org/event/wood-duck-nesting-box-construction/
END:VEVENT
BEGIN:VEVENT
DTSTART;TZID=America/New_York:20260309T180000
DTEND;TZID=America/New_York:20260309T200000
DTSTAMP:20260423T185943
CREATED:20260217T132956Z
LAST-MODIFIED:20260217T132959Z
UID:3354-1773079200-1773086400@www.blfga.org
SUMMARY:Youth Archery ~ Ages 6-9 6-7pm; Ages 10+ 7-8pm
DESCRIPTION:$5 Jr Membership to the BLFGA (good until 12/31/26) \n\n\n\n$5 weekly each Monday you attend
URL:https://www.blfga.org/event/youth-archery-ages-6-9-6-7pm-ages-10-7-8pm-10/
END:VEVENT
BEGIN:VEVENT
DTSTART;TZID=America/New_York:20260319T190000
DTEND;TZID=America/New_York:20260319T203000
DTSTAMP:20260423T185943
CREATED:20260217T132554Z
LAST-MODIFIED:20260217T132558Z
UID:3346-1773946800-1773952200@www.blfga.org
SUMMARY:Monthly Meeting
DESCRIPTION:Monthly Meeting – Clubhouse
URL:https://www.blfga.org/event/monthly-meeting-15/
END:VEVENT
BEGIN:VEVENT
DTSTART;TZID=America/New_York:20260416T190000
DTEND;TZID=America/New_York:20260416T203000
DTSTAMP:20260423T185943
CREATED:20260217T132647Z
LAST-MODIFIED:20260217T132651Z
UID:3348-1776366000-1776371400@www.blfga.org
SUMMARY:Monthly Meeting
DESCRIPTION:Monthly Meeting – Clubhouse
URL:https://www.blfga.org/event/monthly-meeting-16/
END:VEVENT
BEGIN:VEVENT
DTSTART;TZID=America/New_York:20260418T090000
DTEND;TZID=America/New_York:20260418T150000
DTSTAMP:20260423T185943
CREATED:20260401T132511Z
LAST-MODIFIED:20260401T132515Z
UID:3381-1776502800-1776524400@www.blfga.org
SUMMARY:BLFGA Sportsman's Show & Craft/Vendor Fair
DESCRIPTION: BLFGA 3rd Annual Spring Sportsman’s Show & Craft/Vendor Fair!  \n\n\n\nJoin us for a full day of family fun at the Black Lake Fish & Game Association\, Inc.! Come browse tables packed with new and used gear for hunting season\, stock up on lures and tackle for landing the big one\, discover one‑of‑a‑kind items from our local crafters and vendors\, enjoy great food\, and grab a raffle ticket or two \n\n\n\n Date: Saturday\, April 18\, 2026 Time: 9:00 AM – 3:00 PM Location: Black Lake Fish & Game Association\, Inc.1 Gilmour Rd.\, Ogdensburg\, NY 13669 (corner of State Route 58 & Gilmour Rd) \n\n\n\n Admission: $5 General Admission $3 for BLFGA Members Kids under 16: FREE \n\n\n\n What’s Happening? New and Used ~ Hunting gear & apparel; Fishing rods & tackle; Trapping Supplies; Archery bows\, arrows & accessories; Outdoor & camping equipment and much more!! Craft & Vendor Booths Raffles & 50/50 Activities for Kids Concessions available all day And much more! \n\n\n\nThere’s something for everyone — outdoorsmen\, families\, collectors\, and anyone who loves supporting our local community. \n\n\n\n**If you are interested in spot to sell your goods\, please contact Penny Young via text 315-276-4500 or email – club@blfga.org for an application.** \n\n\n\n“A little bit of outdoors\, a little bit of handmade\, and a whole lot of community.”
URL:https://www.blfga.org/event/blfga-sportsmans-show-craft-vendor-fair/
END:VEVENT
BEGIN:VEVENT
DTSTART;TZID=America/New_York:20260502T080000
DTEND;TZID=America/New_York:20260503T170000
DTSTAMP:20260423T185943
CREATED:20260401T131815Z
LAST-MODIFIED:20260401T131820Z
UID:3375-1777708800-1777827600@www.blfga.org
SUMMARY:18-Hr Carry Conceal Class
DESCRIPTION:18-Hr Carry Conceal Class (8am – 5pm) on Saturday\, May 2nd and Sunday\, May 3rd @ the BLFGA \n\n\n\nClasses by Judd Reed @ Straight Line Training \n\n\n\nText\, Call or Email Judd Redd to reserve your spot \n\n\n\n315-778-7247 \n\n\n\nstraightlinetraining68@gmail.com \n\n\n\nClass fee:  $200 for current BLFGA members\, $250 for course & 2026 BLFGA membership\, $225 for course & range fee
URL:https://www.blfga.org/event/18-hr-carry-conceal-class-4/
END:VEVENT
BEGIN:VEVENT
DTSTART;TZID=America/New_York:20260508T190000
DTEND;TZID=America/New_York:20260508T210000
DTSTAMP:20260423T185943
CREATED:20260401T132649Z
LAST-MODIFIED:20260401T132654Z
UID:3383-1778266800-1778274000@www.blfga.org
SUMMARY:BLFGA Meat Raffle Fundraiser
DESCRIPTION: MEAT RAFFLE FUNDRAISER! Support the Black Lake Fish & Game Assoc.\, Inc. Date: Friday\, May 8th Time: Doors Open @ 6pm\, Raffle Starts @ 7pm Location: Al & Illeane Ames Youth Outdoor Education Center @ the BLFGA (1 Gilmour Rd\, Ogdensburg\, NY 13669) Entry Fee: $10 at the Door or $8 Pre-Sale (pre-sale tickets available from Penny Young or Tammy Ritchie) \n\n\n\nJoin us for a fun\, fast‑paced meat raffle with great cuts\, great company\, and great chances to win. Proceeds from this event help support local youth programs\, community events\, and the work we do all year long. \n\n\n\nWhat to Expect:• Multiple rounds of fresh\, high‑quality fresh meat prizes (Melloni’s Meats – Tonawanda\, NY)• 50/50 raffle• Basket raffles• Food & drinks available• Bring your friends ~ it’s a lot of fun! \n\n\n\nHow It Works:Buy tickets for each round (multiple rounds $1\, $2 tickets and a couple bonus rounds) — we’ll spin\, call numbers\, and hand out great cuts of fresh meat all night long! \n\n\n\nIt’s simple\, lively\, and a blast for everyone. Come out\, have fun\, and support a great cause! 
URL:https://www.blfga.org/event/blfga-meat-raffle-fundraiser/
END:VEVENT
BEGIN:VEVENT
DTSTART;TZID=America/New_York:20260521T190000
DTEND;TZID=America/New_York:20260521T203000
DTSTAMP:20260423T185943
CREATED:20260217T132747Z
LAST-MODIFIED:20260217T132750Z
UID:3350-1779390000-1779395400@www.blfga.org
SUMMARY:Monthly Meeting
DESCRIPTION:Monthly Meeting – Clubhouse
URL:https://www.blfga.org/event/monthly-meeting-17/
END:VEVENT
BEGIN:VEVENT
DTSTART;TZID=America/New_York:20260531T090000
DTEND;TZID=America/New_York:20260531T150000
DTSTAMP:20260423T185943
CREATED:20260217T133253Z
LAST-MODIFIED:20260217T133257Z
UID:3356-1780218000-1780239600@www.blfga.org
SUMMARY:BLFGA 4th Annual High School Trap Invitational & Craft/Vendor Fair
DESCRIPTION:A couple different things happening at the BLFGA on Sunday\, May 31st from 9am – 3pm…. \n\n\n\n**High School Trap Invitational**Come out and support over 100+ students from 13 High School Trap Teams as they compete in the 3rd Annual BLFGA High School 50 Bird Trap Invitational. Students from Morristown\, Heuvelton\, Hammond\, OFA\, Gouverneur\, Lisbon\, Indian River\, Harrisville\, Alex Bay\, Norwood-Norfolk\, Potsdam\, St. Lawrence Central\, & Brushton-Moira \n\n\n\n**Craft & Vendor Fair**9am – 3pmShop local crafter/vendors INSIDE the Al & Illeane Ames Youth Outdoor Education Center @ the BLFGA (we are FULL with over 20+ vendors) \n\n\n\n**Concessions Available All Day** \n\n\n\nSOMETHING FOR EVERYONE!! RAIN OR SHINE!! \n\n\n\nCome out and watch area High School students shoot trap\, shop the craft/vendor fair inside the new building and grab something to eat! Bucket Raffles & 50/50 Raffle too!! \n\n\n\nProceeds from this event will be used to help purchase bleacher seating for the BLFGA.
URL:https://www.blfga.org/event/blfga-4th-annual-high-school-trap-invitational-craft-vendor-fair/
END:VEVENT
BEGIN:VEVENT
DTSTART;TZID=America/New_York:20260606T080000
DTEND;TZID=America/New_York:20260607T170000
DTSTAMP:20260423T185943
CREATED:20260401T132226Z
LAST-MODIFIED:20260401T132230Z
UID:3379-1780732800-1780851600@www.blfga.org
SUMMARY:18-Hr Carry Conceal Class
DESCRIPTION:18-Hr Carry Conceal Class (8am – 5pm) on Saturday\, June 6th and Sunday\, June 7th @ the BLFGA \n\n\n\nClasses by Judd Reed @ Straight Line Training \n\n\n\nText\, Call or Email Judd Redd to reserve your spot \n\n\n\n315-778-7247 \n\n\n\nstraightlinetraining68@gmail.com \n\n\n\nClass fee:  $200 for current BLFGA members\, $250 for course & 2026 BLFGA membership\, $225 for course & range fee
URL:https://www.blfga.org/event/18-hr-carry-conceal-class-5/
END:VEVENT
END:VCALENDAR