BEGIN:VCALENDAR
VERSION:2.0
PRODID:-//Black Lake Fish &amp; Game Association - ECPv6.15.20//NONSGML v1.0//EN
CALSCALE:GREGORIAN
METHOD:PUBLISH
X-ORIGINAL-URL:https://www.blfga.org
X-WR-CALDESC:Events for Black Lake Fish &amp; Game Association
REFRESH-INTERVAL;VALUE=DURATION:PT1H
X-Robots-Tag:noindex
X-PUBLISHED-TTL:PT1H
BEGIN:VTIMEZONE
TZID:America/New_York
BEGIN:DAYLIGHT
TZOFFSETFROM:-0500
TZOFFSETTO:-0400
TZNAME:EDT
DTSTART:20240310T070000
END:DAYLIGHT
BEGIN:STANDARD
TZOFFSETFROM:-0400
TZOFFSETTO:-0500
TZNAME:EST
DTSTART:20241103T060000
END:STANDARD
BEGIN:DAYLIGHT
TZOFFSETFROM:-0500
TZOFFSETTO:-0400
TZNAME:EDT
DTSTART:20250309T070000
END:DAYLIGHT
BEGIN:STANDARD
TZOFFSETFROM:-0400
TZOFFSETTO:-0500
TZNAME:EST
DTSTART:20251102T060000
END:STANDARD
BEGIN:DAYLIGHT
TZOFFSETFROM:-0500
TZOFFSETTO:-0400
TZNAME:EDT
DTSTART:20260308T070000
END:DAYLIGHT
BEGIN:STANDARD
TZOFFSETFROM:-0400
TZOFFSETTO:-0500
TZNAME:EST
DTSTART:20261101T060000
END:STANDARD
END:VTIMEZONE
BEGIN:VEVENT
DTSTART;TZID=America/New_York:20250913T090000
DTEND;TZID=America/New_York:20250913T130000
DTSTAMP:20260424T173536
CREATED:20250818T121817Z
LAST-MODIFIED:20250818T121820Z
UID:2936-1757754000-1757768400@www.blfga.org
SUMMARY:BLFGA Fall 50 Bird Shoot
DESCRIPTION:50 Bird Trap Shoot @ the BLFGA \n\n\n\n Date: Saturday\, September 13\, 2025 Time: 9:00 AM – 1:00 PM (last sign up @ 12:30pm) Location: Black Lake Fish & Game Association\, Inc.1 Gilmour Rd.\, Ogdensburg\, NY 13669 (corner of State Route 58 & Gilmour Rd) \n\n\n\n Cost: Adults $25 Juniors (age 12-17) $20 Optional Lewis Class $10 \n\n\n\n Prizes: Cash Prizes paid for each class (Tie for Classes – 25 = shoot off; otherwise reverse run score will be used) $100 Top Gun (Tie for Top Gun = shoot off) \n\n\n\n Other Events Happening on 9/13 @ the BLFGA…. Hunting & Fishing Sales & Swap Meet Craft & Vendor Booths Raffles & 50/50 Activities for Kids Concessions available all day @ the “Oasis II” And much more! \n\n\n\n**Free admission to Swap Meet at the Al & Illeane Ames Youth Outdoor Education Center @ the BLFGA with paid 50 Bird Shoot registration** \n\n\n\nhttps://www.facebook.com/events/1034739282064974
URL:https://www.blfga.org/event/blfga-fall-50-bird-shoot/
CATEGORIES:Featured
ATTACH;FMTTYPE=image/jpeg:https://www.blfga.org/wp-content/uploads/2025/08/BLFGA-50-Bird-Shoot-9-13-25-scaled.jpg
END:VEVENT
BEGIN:VEVENT
DTSTART;TZID=America/New_York:20250913T090000
DTEND;TZID=America/New_York:20250913T150000
DTSTAMP:20260424T173536
CREATED:20250818T120836Z
LAST-MODIFIED:20250818T125009Z
UID:2932-1757754000-1757775600@www.blfga.org
SUMMARY:BLFGA Fall Outdoor Show\, Swap Meet\, Craft/Vendor Fair & 50 Bird Shoot
DESCRIPTION: BLFGA Fall Hunting & Fishing Outdoors Sports Show\, Swap Meet & Craft/Vendor Fair!  \n\n\n\nJoin us for a day of family fun at the Black Lake Fish & Game Association\, Inc.!! Pick up some gear for the upcoming hunting season\, get those lures & gear for catching the big one\, get your Christmas shopping started early at our local crafter/vendors\, eat some great food\, and buy a raffle or 2!! \n\n\n\n Date: Saturday\, September 13\, 2025 Time: 9:00 AM – 3:00 PM Location: Black Lake Fish & Game Association\, Inc.1 Gilmour Rd.\, Ogdensburg\, NY 13669 (corner of State Route 58 & Gilmour Rd) \n\n\n\n Admission: $5 General Admission $3 for BLFGA Members Kids under 16: FREE \n\n\n\n What’s Happening? Hunting & Fishing Sales & Swap Meet Craft & Vendor Booths Raffles & 50/50 50 Bird Trap Shoot (see event details here) Activities for Kids Concessions available all day @ the “Oasis II” And much more! \n\n\n\nThere’s something for everyone\, so come check it out\, find great deals\, and support the BLFGA!!
URL:https://www.blfga.org/event/blfga-fall-outdoor-show-swap-meet-craft-vendor-fair-50-bird-shoot/
CATEGORIES:Featured
ATTACH;FMTTYPE=image/jpeg:https://www.blfga.org/wp-content/uploads/2025/08/BLFGA-Swap-Meet-9-13-25-scaled.jpg
END:VEVENT
END:VCALENDAR