BEGIN:VCALENDAR
VERSION:2.0
PRODID:-//Black Lake Fish &amp; Game Association - ECPv6.15.20//NONSGML v1.0//EN
CALSCALE:GREGORIAN
METHOD:PUBLISH
X-WR-CALNAME:Black Lake Fish &amp; Game Association
X-ORIGINAL-URL:https://www.blfga.org
X-WR-CALDESC:Events for Black Lake Fish &amp; Game Association
REFRESH-INTERVAL;VALUE=DURATION:PT1H
X-Robots-Tag:noindex
X-PUBLISHED-TTL:PT1H
BEGIN:VTIMEZONE
TZID:America/New_York
BEGIN:DAYLIGHT
TZOFFSETFROM:-0500
TZOFFSETTO:-0400
TZNAME:EDT
DTSTART:20250309T070000
END:DAYLIGHT
BEGIN:STANDARD
TZOFFSETFROM:-0400
TZOFFSETTO:-0500
TZNAME:EST
DTSTART:20251102T060000
END:STANDARD
BEGIN:DAYLIGHT
TZOFFSETFROM:-0500
TZOFFSETTO:-0400
TZNAME:EDT
DTSTART:20260308T070000
END:DAYLIGHT
BEGIN:STANDARD
TZOFFSETFROM:-0400
TZOFFSETTO:-0500
TZNAME:EST
DTSTART:20261101T060000
END:STANDARD
BEGIN:DAYLIGHT
TZOFFSETFROM:-0500
TZOFFSETTO:-0400
TZNAME:EDT
DTSTART:20270314T070000
END:DAYLIGHT
BEGIN:STANDARD
TZOFFSETFROM:-0400
TZOFFSETTO:-0500
TZNAME:EST
DTSTART:20271107T060000
END:STANDARD
END:VTIMEZONE
BEGIN:VEVENT
DTSTART;TZID=America/New_York:20260131T063000
DTEND;TZID=America/New_York:20260131T223000
DTSTAMP:20260423T203056
CREATED:20260105T171103Z
LAST-MODIFIED:20260128T133129Z
UID:3236-1769841000-1769898600@www.blfga.org
SUMMARY:BLFGA Derby Day Breakfast
DESCRIPTION:Eat In (all you can eat) – $12  OR   Take Out – $10 (includes bacon\, sausage\, hashbrowns\, french toast OR pancake and scrambled eggs) \n\n\n\nBefore you head out on the ice to catch some fish\, swing by the BLFGA for a hot\, hearty breakfast — or just come join us for a great start to the day! \n\n\n\nWhether you’re gearing up for fishing or simply craving good food and good company\, we’ve got a seat waiting for you. \n\n\n\n🍳☕ Breakfast is better together. See you soon at the BLFGA!
URL:https://www.blfga.org/event/blfga-breakfast/
END:VEVENT
BEGIN:VEVENT
DTSTART;TZID=America/New_York:20260131T070000
DTEND;TZID=America/New_York:20260131T150000
DTSTAMP:20260423T203056
CREATED:20251112T134552Z
LAST-MODIFIED:20260106T143533Z
UID:3105-1769842800-1769871600@www.blfga.org
SUMMARY:Ice Fishing Derby
DESCRIPTION:
URL:https://www.blfga.org/event/ice-fishing-derby-2/
CATEGORIES:Featured
END:VEVENT
END:VCALENDAR