BEGIN:VCALENDAR
VERSION:2.0
PRODID:-//Black Lake Fish &amp; Game Association - ECPv6.15.20//NONSGML v1.0//EN
CALSCALE:GREGORIAN
METHOD:PUBLISH
X-ORIGINAL-URL:https://www.blfga.org
X-WR-CALDESC:Events for Black Lake Fish &amp; Game Association
REFRESH-INTERVAL;VALUE=DURATION:PT1H
X-Robots-Tag:noindex
X-PUBLISHED-TTL:PT1H
BEGIN:VTIMEZONE
TZID:America/New_York
BEGIN:DAYLIGHT
TZOFFSETFROM:-0500
TZOFFSETTO:-0400
TZNAME:EDT
DTSTART:20240310T070000
END:DAYLIGHT
BEGIN:STANDARD
TZOFFSETFROM:-0400
TZOFFSETTO:-0500
TZNAME:EST
DTSTART:20241103T060000
END:STANDARD
BEGIN:DAYLIGHT
TZOFFSETFROM:-0500
TZOFFSETTO:-0400
TZNAME:EDT
DTSTART:20250309T070000
END:DAYLIGHT
BEGIN:STANDARD
TZOFFSETFROM:-0400
TZOFFSETTO:-0500
TZNAME:EST
DTSTART:20251102T060000
END:STANDARD
BEGIN:DAYLIGHT
TZOFFSETFROM:-0500
TZOFFSETTO:-0400
TZNAME:EDT
DTSTART:20260308T070000
END:DAYLIGHT
BEGIN:STANDARD
TZOFFSETFROM:-0400
TZOFFSETTO:-0500
TZNAME:EST
DTSTART:20261101T060000
END:STANDARD
END:VTIMEZONE
BEGIN:VEVENT
DTSTART;TZID=America/New_York:20251018T080000
DTEND;TZID=America/New_York:20251018T110000
DTSTAMP:20260425T081441
CREATED:20250929T151617Z
LAST-MODIFIED:20250929T151622Z
UID:3045-1760774400-1760785200@www.blfga.org
SUMMARY:All You Can Eat Breakfast to benefit MCS Trap Team
DESCRIPTION:Join the Morristown Trap Team for an All You Can Eat Breakfast Fundraiser at the BLFGA!! \n\n\n\nSaturday\, October 18th – 8am-11am \n\n\n\nAdults $12; Kids 10 and under $5; Kids 3 and under are free \n\n\n\nThe parents are cooking up a delicious spread of Pancakes\, French Toast\, Scrambled Eggs\, Eggs Made to Order\, Sausage\, Bacon\, Homemade Hashbrowns\, Coffee & Juice!  And the Fall 2025 Trap Team members will be serving you buffet style.  \n\n\n\nCome out and support the Morristown Trap Team!! \n\n\n\nWe will also have a 50/50 raffle.
URL:https://www.blfga.org/event/all-you-can-eat-breakfast-to-benefit-mcs-trap-team-2/
CATEGORIES:Featured
END:VEVENT
END:VCALENDAR