BEGIN:VCALENDAR
VERSION:2.0
PRODID:-//Black Lake Fish &amp; Game Association - ECPv6.15.20//NONSGML v1.0//EN
CALSCALE:GREGORIAN
METHOD:PUBLISH
X-ORIGINAL-URL:https://www.blfga.org
X-WR-CALDESC:Events for Black Lake Fish &amp; Game Association
REFRESH-INTERVAL;VALUE=DURATION:PT1H
X-Robots-Tag:noindex
X-PUBLISHED-TTL:PT1H
BEGIN:VTIMEZONE
TZID:America/New_York
BEGIN:DAYLIGHT
TZOFFSETFROM:-0500
TZOFFSETTO:-0400
TZNAME:EDT
DTSTART:20240310T070000
END:DAYLIGHT
BEGIN:STANDARD
TZOFFSETFROM:-0400
TZOFFSETTO:-0500
TZNAME:EST
DTSTART:20241103T060000
END:STANDARD
BEGIN:DAYLIGHT
TZOFFSETFROM:-0500
TZOFFSETTO:-0400
TZNAME:EDT
DTSTART:20250309T070000
END:DAYLIGHT
BEGIN:STANDARD
TZOFFSETFROM:-0400
TZOFFSETTO:-0500
TZNAME:EST
DTSTART:20251102T060000
END:STANDARD
BEGIN:DAYLIGHT
TZOFFSETFROM:-0500
TZOFFSETTO:-0400
TZNAME:EDT
DTSTART:20260308T070000
END:DAYLIGHT
BEGIN:STANDARD
TZOFFSETFROM:-0400
TZOFFSETTO:-0500
TZNAME:EST
DTSTART:20261101T060000
END:STANDARD
END:VTIMEZONE
BEGIN:VEVENT
DTSTART;TZID=America/New_York:20250823T080000
DTEND;TZID=America/New_York:20250823T170000
DTSTAMP:20260425T122455
CREATED:20250812T134425Z
LAST-MODIFIED:20250812T134451Z
UID:2928-1755936000-1755968400@www.blfga.org
SUMMARY:Hunter Safety Course @ the BLFGA
DESCRIPTION:Hunter Education is required for all hunting licenses. This course covers firearms safety\, hunting techniques and responsible\, ethical hunting practices. \n\n\n\nNOTE All courses require the completion of homework prior to attending the course. If you do not complete the homework you cannot complete the course.  Manuals with homework sheet will be available at the club in a clear tot on the front deck or on line. If you do the online class use the free choice option. \n\n\n\nIMPORTANT MINIMUM AGE FOR COURSE: 11 YEARS (Minimum age for a license is 12 years). \n\n\n\nContact Lawrence Kring @ 315-323-2107 or kring630@twcny.rr.com to sign \n\n\n\nup or sign up online https://www.register-ed.com/events/view/232942.
URL:https://www.blfga.org/event/hunter-safety-course-the-blfga/
CATEGORIES:Featured
END:VEVENT
END:VCALENDAR