BEGIN:VCALENDAR
VERSION:2.0
PRODID:-//Black Lake Fish &amp; Game Association - ECPv6.15.20//NONSGML v1.0//EN
CALSCALE:GREGORIAN
METHOD:PUBLISH
X-WR-CALNAME:Black Lake Fish &amp; Game Association
X-ORIGINAL-URL:https://www.blfga.org
X-WR-CALDESC:Events for Black Lake Fish &amp; Game Association
REFRESH-INTERVAL;VALUE=DURATION:PT1H
X-Robots-Tag:noindex
X-PUBLISHED-TTL:PT1H
BEGIN:VTIMEZONE
TZID:America/New_York
BEGIN:DAYLIGHT
TZOFFSETFROM:-0500
TZOFFSETTO:-0400
TZNAME:EDT
DTSTART:20240310T070000
END:DAYLIGHT
BEGIN:STANDARD
TZOFFSETFROM:-0400
TZOFFSETTO:-0500
TZNAME:EST
DTSTART:20241103T060000
END:STANDARD
BEGIN:DAYLIGHT
TZOFFSETFROM:-0500
TZOFFSETTO:-0400
TZNAME:EDT
DTSTART:20250309T070000
END:DAYLIGHT
BEGIN:STANDARD
TZOFFSETFROM:-0400
TZOFFSETTO:-0500
TZNAME:EST
DTSTART:20251102T060000
END:STANDARD
BEGIN:DAYLIGHT
TZOFFSETFROM:-0500
TZOFFSETTO:-0400
TZNAME:EDT
DTSTART:20260308T070000
END:DAYLIGHT
BEGIN:STANDARD
TZOFFSETFROM:-0400
TZOFFSETTO:-0500
TZNAME:EST
DTSTART:20261101T060000
END:STANDARD
END:VTIMEZONE
BEGIN:VEVENT
DTSTART;TZID=America/New_York:20250221T170000
DTEND;TZID=America/New_York:20250221T190000
DTSTAMP:20260425T204424
CREATED:20250113T181750Z
LAST-MODIFIED:20250219T014653Z
UID:2293-1740157200-1740164400@www.blfga.org
SUMMARY:Build a Buddy @ the BLFGA
DESCRIPTION:Come end Winter Break with a fun activity for all ages!! BUILD A BUDDY is coming to the BLFGA on Friday\, February 21st from 5pm-7pm!! Build a Buddy is a mobile stuffing machine with multiple different stuffed animals and outfits to choose from (see prices on FB event). Refreshments will also be available for purchase. \n\n\n\nConcessions will be available for purchase!! Hamburgers\, Hot Dogs\, Popcorn and more!!
URL:https://www.blfga.org/event/build-a-buddy-the-blfga/
END:VEVENT
END:VCALENDAR